BEGIN:VCALENDAR
VERSION:2.0
PRODID:-//wp-events-plugin.com//7.2.3.1//EN
BEGIN:VEVENT
UID:116@nvwc.nl
DTSTART;TZID=Europe/Amsterdam:20250201T090000
DTEND;TZID=Europe/Amsterdam:20250201T110000
DTSTAMP:20250130T144342Z
URL:https://www.nvwc.nl/agenda/1-februari-eerste-excursie-vogels-in-de-buu
 rt-2025/
SUMMARY:1 Februari eerste excursie "Vogels in de buurt" 2025
DESCRIPTION:Gerrit Jan klop zet zijn zeer gewaardeerde fietsexcursies ook d
 it jaar voort\, te beginnen op 1 februari. Een goed moment om (weer) aan t
 e sluiten bij deze educatieve vogelexcursie.\n\n&nbsp\;\n\nHij stapt op 1 
 februari om 9:00 uur op de fiets vanaf het grote plein voor De Steenuil\, 
 Steenovenslaan 20\, Culemborg. De excursie duurt ongeveer twee uur. Deze m
 aandelijkse fietsexcursies zijn geschikt voor zowel beginnende als gevorde
 rde vogelaars. Aanmelden vooraf is niet nodig en er zijn geen kosten aan v
 erbonden. Heb je een verrekijker? Neem die dan mee.\nVoor meer info een ma
 iltje naar gjklop@gmail.com.\n\nVolgende excursie: 1 maart
ATTACH;FMTTYPE=image/jpeg:https://www.nvwc.nl/wp-content/uploads/2024/12/2
 20507-Vogelexcursie_GvI-scaled.jpg
LOCATION:De Steenuil\, Steenovenslaan 20\, Culemborg\, Nederland
X-APPLE-STRUCTURED-LOCATION;VALUE=URI;X-ADDRESS=Steenovenslaan 20\, Culembo
 rg\, Nederland;X-APPLE-RADIUS=100;X-TITLE=De Steenuil:geo:0,0
END:VEVENT
BEGIN:VTIMEZONE
TZID:Europe/Amsterdam
X-LIC-LOCATION:Europe/Amsterdam
BEGIN:STANDARD
DTSTART:20241027T020000
TZOFFSETFROM:+0200
TZOFFSETTO:+0100
TZNAME:CET
END:STANDARD
END:VTIMEZONE
END:VCALENDAR