BEGIN:VCALENDAR
VERSION:2.0
PRODID:-//wp-events-plugin.com//7.2.3.1//EN
BEGIN:VEVENT
UID:165@nvwc.nl
DTSTART;TZID=Europe/Amsterdam:20260131T090000
DTEND;TZID=Europe/Amsterdam:20260131T140000
DTSTAMP:20260116T231238Z
URL:https://www.nvwc.nl/agenda/eventueel-knotwilgen-snoeien/
SUMMARY:Knotwilgen snoeien
DESCRIPTION:KNOTWERKGROEP NVWC\n\n&nbsp\;\n\nZaterdag  31 januari 2026\n\n
 Locatie:  Werk aan het Spoel - Armenboomgaard\n\nAanvang 09.00 tot ongeve
 er 14.00 uur\n\n&nbsp\;\n\nHelaas waren de voorspellingen en uiteindelijk 
 ook de winterse omstandigheden reden om de knotdag van 10 januari jongstle
 den te annuleren. Op de dag zelf bleek dit de juiste beslissing\; de oude 
 sneeuwlaag was veranderd in een ijslaag met daarover een nieuw klein laagj
 e sneeuw.\n\nZaterdag de 31ste een nieuwe poging om de rij vanaf de voet v
 an de Goilberdingerdijk tot de zomerkade te snoeien. De knotwilgen rondom 
 de boomgaard zijn na 4 jaar toe aan een snoeibeurt. Vanwege de biodiversit
 eit wordt nu één van de twee rijen gesnoeid. Inschatting is dat het met 
 een grote opkomst en goede weersomstandigheden in één zaterdag kan lukke
 n.\n\nHout kan worden meegenomen\, het restant wordt te zijner tijd versni
 pperd.\n\nBereikbaarheid \n\nDe locatie ligt naast Werk aan het Spoel in d
 e uiterwaard aan de Goilberdingerdijk. Fietsen en auto’s graag parkeren 
 bij de parkeerplaats van Werk aan het Spoel en niet op de dijk. De ingang 
 van de boomgaard is dan slechts enkele tientallen meters lopen voorbij het
  restaurant.\n\nBenodigdheden\nVoor gereedschap en koffie wordt gezorgd. Z
 elf s.v.p. voor brood zorgen. Denk aan geschikte kleding/laarzen/handschoe
 nen!!!. Wie slechts enkele uurtjes kan is uiteraard ook van harte welkom.\
 n\nOverig\nWie twijfelt of de snoeidag gezien de weersomstandigheden door 
 kan gaan\, neemt op de dag zelf na 07.30 uur contact op met 06-44704754  
 of kom voor 08.30 uur naar de Steenuil\, Steenovenslaan 20\, Culemborg\n\n
 Meer informatie en contact\n\nHarry van de Warenburg\, Grondzeilerweg 9 \,
  Culemborg\, tel. 06-44704754\,  e-mail: h.j.m.van.dewarenburg@freeler.nl
 \n\nWim Smits\, Hoogeinde 8\, Zoelmond\, tel. 0345 -501671.\n\n&nbsp\;\n\n
 Resterende snoeidagen dit winterseizoen: zaterdag 21 februari
ATTACH;FMTTYPE=image/jpeg:https://www.nvwc.nl/wp-content/uploads/2025/12/F
 oto-2_Knotwerkgroep_nov-dec-25.jpg
END:VEVENT
BEGIN:VTIMEZONE
TZID:Europe/Amsterdam
X-LIC-LOCATION:Europe/Amsterdam
BEGIN:STANDARD
DTSTART:20251026T020000
TZOFFSETFROM:+0200
TZOFFSETTO:+0100
TZNAME:CET
END:STANDARD
END:VTIMEZONE
END:VCALENDAR