BEGIN:VCALENDAR
VERSION:2.0
PRODID:-//wp-events-plugin.com//7.2.3.1//EN
BEGIN:VEVENT
UID:150@nvwc.nl
DTSTART;TZID=Europe/Amsterdam:20250928T143000
DTEND;TZID=Europe/Amsterdam:20250928T163000
DTSTAMP:20250911T110502Z
URL:https://www.nvwc.nl/agenda/film-monding-van-morgen/
SUMMARY:Film: Monding van morgen
DESCRIPTION:Op zondag 28 september om 14.30 uur is er weer een mooie natuur
 film te zien in samenwerking\nmet de Fransche School. Filmer Rik van der L
 inden schetst een toekomstbeeld hoe de natuur in\nNederland terug kan kere
 n. Hij gaat op zoek in het Rijnmondgebied.\nHet besef begint door te dring
 en dat de rijnmaasmonding zoals wij haar nu kennen voorgoed\ngaat verander
 en. We zitten in een overgang naar een nieuw geologisch tijdperk en het is
  aan ons\nom mee te bewegen. Maar hoe? Rotterdamse filmmaker Rik van der L
 inden gaat op expeditie in\nde delta en ontdekt dat in De Monding van Morg
 en dat verandering heel positief kan uitpakken\nvoor mens\, plant en dier.
 \nRik van der Linden zal zelf aanwezig zijn in de Fransche School om de fi
 lm kort in te leiden en na\nafloop om vragen te beantwoorden.
ATTACH;FMTTYPE=image/jpeg:https://www.nvwc.nl/wp-content/uploads/2025/09/K
 opie-van-Photo-3-Still_Monding_van_Morgen_3.92.1-640x360-1.jpg
END:VEVENT
BEGIN:VTIMEZONE
TZID:Europe/Amsterdam
X-LIC-LOCATION:Europe/Amsterdam
BEGIN:DAYLIGHT
DTSTART:20250330T030000
TZOFFSETFROM:+0100
TZOFFSETTO:+0200
TZNAME:CEST
END:DAYLIGHT
END:VTIMEZONE
END:VCALENDAR