BEGIN:VCALENDAR
VERSION:2.0
PRODID:-//wp-events-plugin.com//7.2.3.1//EN
BEGIN:VEVENT
UID:146@nvwc.nl
DTSTART;TZID=Europe/Amsterdam;VALUE=DATE:20250908
DTEND;TZID=Europe/Amsterdam;VALUE=DATE:20250930
DTSTAMP:20250908T173926Z
URL:https://www.nvwc.nl/agenda/haal-een-gratis-boom-op/
SUMMARY:Haal een gratis boom op
DESCRIPTION:Meld je aan: gemeente en vogelwacht delen 100 gratis bomen uit\
 n\nAanmelden bomenactie\n\nHaal een gratis boom op\n\nTer gelegenheid van 
 het 50-jarig bestaan van de Natuur- en Vogelwacht delen de gemeente Culemb
 org en de NVWC samen 100 gratis bomen en struiken uit aan inwoners van C
 ulemborg. Meld je aan en geef deze tuinairco een plekje in je tuin. Liefst
  vandaag nog\, dan is er nog keuze.\n\nHet zijn kleine bomen en struiken (
 max. 1\,5 meter)\, dus vervoer per fiets is mogelijk. Ophalen gaat via een
  vaste route (drive-thru)\, dat met bordjes zal worden aangegeven. Ter ple
 kke is er koffie\, thee en informatie over boomverzorging. Je kunt kiezen 
 tussen vier soorten. Niet opgehaalde bomen krijgen een andere bestemming.\
 n\nHet aanmeldformulier sluit op 29 september of zodra er 100 aanmeldingen
  zijn.\n\nKies tussen:\n\n 	 Sporkehout – Rhamnus frangula (struik)\n 	 
 Struikklimop – Hedera helix ‘Arborescens’ (struik)\n 	 Wilde lijster
 bes – Sorbus aucuparia (kleine boom)\n 	 Vogelkers – Prunus padus (mid
 delgrote boom)\n\nAanmelden bomenactie\n\nVoorwaarden\n\n 	Je woont in Cul
 emborg en plant de boom of struik in je eigen tuin. Eén boom/ struik per 
 adres.\n 	In je tuin is minimaal 1 m² (1 x 1 meter) ruimte voor het plant
 gat.\n 	Bij bomen: houd minstens 2 meter afstand tot de erfgrens om rekeni
 ng te houden met de buren. Struiken mogen tot een halve meter van de erfgr
 ens staan. In overleg met de buren mag je een boom of struik wel tot de er
 fgrens plaatsen.\n 	Kies je een boom? Dan krijg je een boom zonder kluit (
 wortelgoed). Plant de boom direct of bewaar maximaal één dag met de wort
 els in vochtig zand of grond.\n 	Kies je een struik? Die krijg je een stru
 ik met kluit. Plant de struik direct of binnen twee weken (geef de kluit d
 an wel water). Bij vorst: direct planten.\n 	Je kunt de boom of struik oph
 alen op zaterdag 8 november 2025 tussen 10.30 en 12.00 uur op het Steenove
 nterrein (NVWC Clubhuis De Steenuil\, Steenovenslaan 20). Niet opgehaalde 
 planten krijgen een andere bestemming.\n\nOphalen kan op zaterdag 8 novem
 ber tussen 10.30 en 12.00 uur op het Steenoventerrein (NVWC Clubhuis 
 De Steenuil\, Steenovenslaan 20).
END:VEVENT
BEGIN:VTIMEZONE
TZID:Europe/Amsterdam
X-LIC-LOCATION:Europe/Amsterdam
BEGIN:DAYLIGHT
DTSTART:20250330T030000
TZOFFSETFROM:+0100
TZOFFSETTO:+0200
TZNAME:CEST
END:DAYLIGHT
END:VTIMEZONE
END:VCALENDAR