BEGIN:VCALENDAR
VERSION:2.0
PRODID:-//wp-events-plugin.com//7.2.3.1//EN
BEGIN:VEVENT
UID:171@nvwc.nl
DTSTART;TZID=Europe/Amsterdam:20260514T000000
DTEND;TZID=Europe/Amsterdam:20260517T000000
DTSTAMP:20260329T150722Z
URL:https://www.nvwc.nl/agenda/hemelvaartkamp/
SUMMARY:Hemelvaartkamp 2026 Nieuwe editie in vertrouwde verpakking!
DESCRIPTION:Leden en niet-leden van de NVWC gaan al sinds jaar en dag op ka
 mp rond Hemelvaartsdag. Ook dit jaar wordt het kamp weer georganiseerd\, v
 an donderdag 14 mei tot en met zondag 17 mei 2026. We verblijven altijd op
  een mooi terrein ergens in Nederland (in het verleden zelfs in het buiten
 land). Traditioneel begint het bij het ontbijt op donderdag maar sommige k
 ampgangers komen al op woensdag aan\, of nog eerder. Eerder komen en/of ga
 an behoort tot de mogelijkheden bij opgave.\nVaak verblijven we op een gro
 ot veld\, of een gezellige camping waar we samen onze tent of camper neerz
 etten. We koken zelf ons eten. Elke dag zorgt een groep mensen met corveed
 ienst voor zowel het ontbijt\, de lunch\, als het avondeten. Bij het ontbi
 jt en de lunch kun je zelf kiezen wat je op je brood wilt. Het koken van h
 et avondeten gebeurt in een grote kooktent en mocht het slecht weer zijn d
 an kunnen we met zijn allen eten in een grote gezellige tent met tafels en
  stoelen die ook opgezet wordt.\n[vcex_spacing size="30px"]\nDit jaar gaan
  we naar.....tromgeroffel..... Boerderijcamping De Kloostermuur\, Hoogcrut
 s 9 in Noorbeek. Je loopt binnendoor zo naar Slenaken. Het is een camping 
 met een hele oude boerderij uit 1669\, gerund door Boer Pierre en zijn vro
 uw Angelina\, die van Peruaanse afkomst is en geregeld heerlijke maaltijde
 n kookt. In principe wordt d.m.v. corveeploegen door ons zelf gekookt\, ma
 ar overleg is altijd mogelijk. Op het terrein mogen we een kampvuur maken.
  We komen op een eigen veld te staan\, waarop je je vervoermiddel bij je k
 ampeermiddel kunt zetten. Er is voldoende elektriciteit en mooi ruim sanit
 air. Op het terrein staat een hele oude Limburgse boerderij. Je kunt er ev
 entueel ook kamers huren (4x2 pers.)\n[vcex_spacing size="30px"]\nWinny en
  Leo\, onze oude getrouwen\, zijn op voorverkenning geweest en hebben zich
  op de plaats van bestemming en in de omgeving een aantal dagen prima verm
 aakt. Ze zagen op het terrein onder de poort een oude kar\, die bezaaid la
 g met uilenballen. Grote kans dus dat we uilen gaan zien. Ook is de beste 
 vlaaienbakker reeds gevonden. De omgeving van Slenaken en de Belgische Voe
 rstreek leent zich uitstekend voor excursies en prachtige wandelingen\, di
 e door de leden zelf worden ingebracht. Elke dag worden er één of meerde
 re excursies georganiseerd\, waarbij we lopend of fietsend op pad gaan. He
 t eerste fietsvoorstel naar de Groeve van Terblijt\, door Jan Spelier\, is
  al gedaan. Wel voor de geoefende of elektrische fietsers onder ons\, want
  een ieder kent wel de heuvels van mooi Zuid Limburg.\n[vcex_spacing size=
 "30px"]\nDe kinderen die meegaan mogen meehelpen bij de verzorging van de 
 dieren op de boerderij\, en zelfs een ritje op de trekker met boer Pierre 
 is mogelijk. Ook verkopen ze zelfgemaakte producten zoals vers appelsap\, 
 confiture en appelstroop.\n[vcex_spacing size="30px"]\nDe algemene kampkos
 ten voor ontbijt\, lunch en avondeten zullen rond de €50\,--p.p. bedrage
 n (buiten de kosten voor de standplaats). Kampeerkosten voor de individuel
 e situatie kunt u gemakkelijk zelf uitrekenen door op de site van de campi
 ng te kijken onder het kopje tarieven\, maar worden van tevoren door de ka
 mp-penningmeester netjes in kaart gebracht en geïnd. U ziet\, het wordt e
 en onbezorgde kampervaring.\nWebsite: www.kloostermuur.nl\, ook voor sfeer
 impressies en voorpret.\n[vcex_spacing size="30px"]\nVroeger gingen er vee
 l gezinnen mee op kamp\, de laatste jaren werd de groep vaster\, met veela
 l dezelfde mensen\, maar weinig jonge gezinnen. Afgelopen jaar was er een 
 afwisseling van oude rotten die al jaren meegaan\, nieuwe aanwas en jonge 
 lieden. Het zou gaaf zijn als er net als vroeger weer meer gezinnen met ki
 nderen meegaan. Vandaar dat wij ook de jeugdleden aanschrijven (jeugdleden
  alleen onder begeleiding van een volwassene).\n[vcex_spacing size="30px"]
 \nOpgeven voor het Hemelvaartkamp kan door een bericht te sturen naar\; k
 ampcoor@nvwc.nl. We vernemen daarbij graag uw naam\, e-mailadres\, telefoo
 nnummer en met hoeveel personen u hoeveel dagen denkt mee te gaan.\nOok vo
 or aanvullende vragen kunt u (volwassenen) op dit e-mailadres terecht.\nVo
 or vragen vanuit de jeugdleden kun je terecht bij Ewoud en Maartje van der
  Ploeg via jeugdcoor@nvwc.nl of via de appgroep. De vragen zullen dan zo
  spoedig mogelijk worden beantwoord.\n[vcex_spacing size="30px"]\nGraag ui
 terlijk 15 maart opgeven zodat de voorpret van op kamp gaan kan beginnen!\
 nLET OP: Het maximum aantal deelnemers is 30!\n[vcex_spacing size="30px"]\
 nGroetjes Ida\, Winny\, Ewoud en Maartje[vcex_spacing size="30px"]\n\n\n[g
 allery ids="7690\,7691\,7689"]\n\n
ATTACH;FMTTYPE=image/jpeg:https://www.nvwc.nl/wp-content/uploads/2026/01/s
 ignal-2025-12-16-11-40-13-713-1_Kamp-2026-Noorbeek_c-Winny-Verdouw.jpg
LOCATION:Boerderijcamping De Kloostermuur\, Hoogcruts 9\, 6255 NS Noorbeek\
 , Nederland
X-APPLE-STRUCTURED-LOCATION;VALUE=URI;X-ADDRESS=Hoogcruts 9\, 6255 NS Noorb
 eek\, Nederland;X-APPLE-RADIUS=100;X-TITLE=Boerderijcamping De Kloostermuu
 r:geo:0,0
END:VEVENT
BEGIN:VTIMEZONE
TZID:Europe/Amsterdam
X-LIC-LOCATION:Europe/Amsterdam
BEGIN:DAYLIGHT
DTSTART:20260329T030000
TZOFFSETFROM:+0100
TZOFFSETTO:+0200
TZNAME:CEST
END:DAYLIGHT
END:VTIMEZONE
END:VCALENDAR