BEGIN:VCALENDAR
VERSION:2.0
PRODID:-//wp-events-plugin.com//7.2.3.1//EN
BEGIN:VEVENT
UID:172@nvwc.nl
DTSTART;TZID=Europe/Amsterdam:20260128T193000
DTEND;TZID=Europe/Amsterdam:20260128T213000
DTSTAMP:20260121T144408Z
URL:https://www.nvwc.nl/agenda/informatieavond-paddentrek/
SUMMARY:Informatieavond Paddentrek
DESCRIPTION:
ATTACH;FMTTYPE=image/jpeg:https://www.nvwc.nl/wp-content/uploads/2026/01/I
 nfo-avond-Paddentrek.jpg
LOCATION:De Steenuil\, Steenovenslaan 20\, Culemborg\, Nederland
X-APPLE-STRUCTURED-LOCATION;VALUE=URI;X-ADDRESS=Steenovenslaan 20\, Culembo
 rg\, Nederland;X-APPLE-RADIUS=100;X-TITLE=De Steenuil:geo:0,0
END:VEVENT
BEGIN:VTIMEZONE
TZID:Europe/Amsterdam
X-LIC-LOCATION:Europe/Amsterdam
BEGIN:STANDARD
DTSTART:20251026T020000
TZOFFSETFROM:+0200
TZOFFSETTO:+0100
TZNAME:CET
END:STANDARD
END:VTIMEZONE
END:VCALENDAR