BEGIN:VCALENDAR
VERSION:2.0
PRODID:-//wp-events-plugin.com//7.2.3.1//EN
BEGIN:VEVENT
UID:112@nvwc.nl
DTSTART;TZID=Europe/Amsterdam:20241221T133000
DTEND;TZID=Europe/Amsterdam:20241221T153000
DTSTAMP:20241204T150051Z
URL:https://www.nvwc.nl/agenda/jeugdactiviteit-21-december-kerststukjes-en
 -vogelvoer-maken/
SUMMARY:Jeugdactiviteit: 21 december kerststukjes en vogelvoer maken
DESCRIPTION:Inmiddels traditiegetrouw organiseren we kort voor kerst weer e
 en creatieve activiteit. We gaan kerststukjes en vogelvoer maken. We gaan 
 aan de slag in ons clubgebouw De Steenuil en treffen elkaar daar op 21 dec
 ember om 13:30 uur. De activiteit duurt tot ongeveer 15:30 uur. We willen 
 jullie vragen om is zelf een passend bakje mee te nemen en daar waar mogel
 ijk ook versiersels\, zoals takjes\, dennenappels\, enz. Uiteraard nemen w
 ij ook het nodig aan materiaal en oaseblokken mee. Voor het maken van voge
 lvoer zorgen wij voor de ingrediënten.\n\n&nbsp\;\n\nDoe je mee? Laat het
  even weten via jeugdcoor@nvwc.nl en breng gerust een vriend(innet)je\, br
 oertje\, zusje mee!\nDatum: 21 december\nTijd: 13:30 – 15:30 uur.\nBreng
 en en halen: De Steenuil\, Steenovensweg 20\, Culemborg.\n\n&nbsp\;\n\nFot
 o vogelvoer: Jurgen Geven
ATTACH;FMTTYPE=image/jpeg:https://www.nvwc.nl/wp-content/uploads/2024/12/2
 01612-Vogelvoer_JG-scaled.jpg
LOCATION:De Steenuil\, Steenovenslaan 20\, Culemborg\, Nederland
X-APPLE-STRUCTURED-LOCATION;VALUE=URI;X-ADDRESS=Steenovenslaan 20\, Culembo
 rg\, Nederland;X-APPLE-RADIUS=100;X-TITLE=De Steenuil:geo:0,0
END:VEVENT
BEGIN:VTIMEZONE
TZID:Europe/Amsterdam
X-LIC-LOCATION:Europe/Amsterdam
BEGIN:STANDARD
DTSTART:20241027T020000
TZOFFSETFROM:+0200
TZOFFSETTO:+0100
TZNAME:CET
END:STANDARD
END:VTIMEZONE
END:VCALENDAR