BEGIN:VCALENDAR
VERSION:2.0
PRODID:-//wp-events-plugin.com//7.2.3.1//EN
BEGIN:VEVENT
UID:168@nvwc.nl
DTSTART;TZID=Europe/Amsterdam:20260124T133000
DTEND;TZID=Europe/Amsterdam:20260124T153000
DTSTAMP:20251229T161427Z
URL:https://www.nvwc.nl/agenda/jeugdactiviteit-hartje-winter/
SUMMARY:Jeugdactiviteit - Hartje winter in de Zump
DESCRIPTION:Een nieuw jaar gaat weer van start\, een jaar vol verschillende
  leuke activiteiten met de jeugd van de NVWC én er staat een heus hemelva
 artkamp op de planning.\nDe kerstboom is de deur uit\, de oliebollen zijn 
 op en onze eerste excursie van het jaar staat weer voor de deur. Zaterdag 
 24 januari nemen wij jullie mee naar de Zump\, het is dan Hartje Winter. H
 opelijk ligt er sneeuw of is het water van de Zump bevroren. Dat levert da
 n misschien ook wel ijspret op.\n\nWe gaan de bomen in de Zump onder de lo
 ep nemen\, we gaan kijken welke boomsoorten er staan en we gaan een spanne
 nd spel tussen de bomen doen. Durf jij dit aan?\nWij zorgen voor een touw 
 en een blinddoek 😉.Wij zien jullie graag 24 januari bij de ingang van d
 e Zump aan het Pijlkruid. De activiteit begint om 13.30 uur en duurt tot 1
 5.30 uur.\nBen jij tussen de 6 en 12 jaar\, geef je dan op via jeugdcoor@
 nvwc.nl.\n\nDe beste wensen voor het nieuwe jaar\, niet teveel oliebollen 
 eten en tot de 24ste!\n\nGroetjes\,  Ewoud en Maartje
ATTACH;FMTTYPE=image/jpeg:https://www.nvwc.nl/wp-content/uploads/2022/12/r
 edichemse-waard-sneeuw.jpg
LOCATION:Ingang de Zump aan het Pijlkruid\, Culemborg\, 
X-APPLE-STRUCTURED-LOCATION;VALUE=URI;X-ADDRESS=Culemborg\, ;X-APPLE-RADIUS
 =100;X-TITLE=Ingang de Zump aan het Pijlkruid:geo:0,0
END:VEVENT
BEGIN:VTIMEZONE
TZID:Europe/Amsterdam
X-LIC-LOCATION:Europe/Amsterdam
BEGIN:STANDARD
DTSTART:20251026T020000
TZOFFSETFROM:+0200
TZOFFSETTO:+0100
TZNAME:CET
END:STANDARD
END:VTIMEZONE
END:VCALENDAR