BEGIN:VCALENDAR
VERSION:2.0
PRODID:-//wp-events-plugin.com//7.2.3.1//EN
BEGIN:VEVENT
UID:157@nvwc.nl
DTSTART;TZID=Europe/Amsterdam:20251115T133000
DTEND;TZID=Europe/Amsterdam:20251115T153000
DTSTAMP:20251030T123759Z
URL:https://www.nvwc.nl/agenda/jeugdactiviteit-korstmossen-en-diersporen/
SUMMARY:Jeugdactiviteit: Korstmossen en diersporen
DESCRIPTION:Op 15 november gaan we weer gezellig de natuur in. We gaan in D
 e Plantage op\nzoek naar korstmossen (en ook naar diersporen\, om de helaa
 s afgezegde activiteit\nvan oktober een beetje in te halen). Een korstmos 
 is een schimmel\, die samenleeft\nmet een alg of bacterie. Ze kunnen aller
 lei kleuren en vormen aannemen en groeien\nvooral op oude bomen en stenen 
 die al een hele tijd op dezelfde plek liggen. Juist\ndaarom is De Plantage
  met de vele oude bomen een heel geschikte plek om naar\nkorstmossen te ga
 an zoeken.\nWe starten zoals altijd om 13.30\, en treffen elkaar aan de Wi
 lhelminadreef. De\nexcursie duurt tot 15.30. Graag tot de 15e november!!
ATTACH;FMTTYPE=image/jpeg:https://www.nvwc.nl/wp-content/uploads/2025/10/C
 aloplaca-aurantia-5-Platte-citroenkorst-Saxifraga-Willem-van-Kruijsbergen.
 jpg
END:VEVENT
BEGIN:VTIMEZONE
TZID:Europe/Amsterdam
X-LIC-LOCATION:Europe/Amsterdam
BEGIN:STANDARD
DTSTART:20251026T020000
TZOFFSETFROM:+0200
TZOFFSETTO:+0100
TZNAME:CET
END:STANDARD
END:VTIMEZONE
END:VCALENDAR