BEGIN:VCALENDAR
VERSION:2.0
PRODID:-//wp-events-plugin.com//7.2.3.1//EN
BEGIN:VEVENT
UID:140@nvwc.nl
DTSTART;TZID=Europe/Amsterdam:20250621T133000
DTEND;TZID=Europe/Amsterdam:20250621T153000
DTSTAMP:20250601T071628Z
URL:https://www.nvwc.nl/agenda/jeugdactiviteit-lieveheersbeestjes-in-culem
 borg-2/
SUMMARY:Jeugdactiviteit Lieveheersbeestjes in Culemborg
DESCRIPTION:De excursie in mei kon niet doorgaan\, daarom een nieuwe poging
 \n\n&nbsp\;\n\nSamen met Lionne van Drunen gaan de jeugdige Culemborgse na
 tuurliefhebbers op zoek naar zoveel mogelijk soorten lieveheersbeestjes. W
 e komen er vast achter hoe oud een lieveheersbeestje is. Kunnen we dit zie
 n aan het aantal stippen\, of is er een andere manier om hier achter te ko
 men? We gaan het zien! Een locatie hebben we nog niet definitief gekozen. 
 Hierover ontvangen jullie nog informatie via de app-groepen. We zien julli
 e graag op 21 juni! Tot dan.\n\n&nbsp\;\n\nGa je mee? Laat het even weten 
 via jeugdcoor@nvwc.nl en breng gerust een broertje of vriendinnetje mee.\n
 Datum: 21-06-2025.\nTijd: 13:30 – 15:30 uur.\nBrengen en halen: Komt in 
 de app.\n\n&nbsp\;\n\nFoto schaakbordlieveheersbeestjes: Lionne van Drunen
 .
ATTACH;FMTTYPE=image/jpeg:https://www.nvwc.nl/wp-content/uploads/2025/04/2
 0240528-Schaakbord-lieveh-Ophemert_LionnevanDrunen-scaled.jpg
END:VEVENT
BEGIN:VTIMEZONE
TZID:Europe/Amsterdam
X-LIC-LOCATION:Europe/Amsterdam
BEGIN:DAYLIGHT
DTSTART:20250330T030000
TZOFFSETFROM:+0100
TZOFFSETTO:+0200
TZNAME:CEST
END:DAYLIGHT
END:VTIMEZONE
END:VCALENDAR