BEGIN:VCALENDAR
VERSION:2.0
PRODID:-//wp-events-plugin.com//7.2.3.1//EN
BEGIN:VEVENT
UID:169@nvwc.nl
DTSTART;TZID=Europe/Amsterdam:20260214T133000
DTEND;TZID=Europe/Amsterdam:20260214T153000
DTSTAMP:20260130T201853Z
URL:https://www.nvwc.nl/agenda/jeugdactiviteit-vogelcupcakes-maken/
SUMMARY:Jeugdactiviteit - Vogelcupcakes maken
DESCRIPTION:Het laatste restje winter hangt nog in de lucht\, ondanks de al
  zichtbare voorjaarstaferelen. Vogels vliegen af en aan met nestmateriaal\
 , bloemen staan al in bloei\, de koolmees maakt zijn welbekende fietspompg
 eluid\, maar de winter kan de komende twee maanden nog keihard terugslaan.
  Dan zijn wij er voor de vogels. Wij gaan voor de vogels cupcakes maken\, 
 met dingen die zij lekker vinden. De cupcakes zijn ook makkelijk thuis te 
 maken\, dus als de vogels er geen genoeg van krijgen kun je samen met mama
  en papa weer nieuwe maken. Het recept krijgen jullie aan het eind van de 
 activiteit mee naar huis.\n\nWe verzamelen in ons vertrouwde clubgebouw aa
 n de Steenovenslaan 20\, de Steenuil. De activiteit begint om 13.30 uur en
  duurt tot 15.30 uur..\n\nKinderen in de leeftijd van 6 tot en met 12 jaar
  kunnen meedoen.\n\n&nbsp\;\n\nMocht je zin hebben om mee te doen meld je 
 dan aan via jeugdcoor@nvwc.nl
ATTACH;FMTTYPE=image/jpeg:https://www.nvwc.nl/wp-content/uploads/2025/12/V
 ogelvoer-maken.jpg
LOCATION:De Steenuil\, Steenovenslaan 20\, Culemborg\, Nederland
X-APPLE-STRUCTURED-LOCATION;VALUE=URI;X-ADDRESS=Steenovenslaan 20\, Culembo
 rg\, Nederland;X-APPLE-RADIUS=100;X-TITLE=De Steenuil:geo:0,0
END:VEVENT
BEGIN:VTIMEZONE
TZID:Europe/Amsterdam
X-LIC-LOCATION:Europe/Amsterdam
BEGIN:STANDARD
DTSTART:20251026T020000
TZOFFSETFROM:+0200
TZOFFSETTO:+0100
TZNAME:CET
END:STANDARD
END:VTIMEZONE
END:VCALENDAR