BEGIN:VCALENDAR
VERSION:2.0
PRODID:-//wp-events-plugin.com//7.2.3.1//EN
BEGIN:VEVENT
UID:160@nvwc.nl
DTSTART;TZID=Europe/Amsterdam:20251213T133000
DTEND;TZID=Europe/Amsterdam:20251213T153000
DTSTAMP:20251126T205321Z
URL:https://www.nvwc.nl/agenda/jeugdactiviteit-vogelvoer-en-kerststukjes-m
 aken-2/
SUMMARY:Jeugdactiviteit: vogelvoer en kerststukjes maken
DESCRIPTION:Op 13 december hebben we weer onze traditionele eindejaarsactiv
 iteit. We gaan aan de slag voor de vogels en voor een leuke sfeer in huis.
  In ons clubgebouw De Steenuil maken we vogelvoer. Met diverse zaden en ve
 t maken we vetbollen\, voerpotten en andere lekkernijen voor de vogels om 
 de winter door te komen. Ook voor wat extra gezelligheid gaan we zorgen. W
 e maken zoals ieder jaar weer mooie kerststukjes van onder andere door jul
 lie zelf verzameld materiaal. Komen jullie gezellig meedoen?\n\nWaar: De S
 teenuil\, Steenovenslaan 20 in Culemborg\n\nWanneer: 13 december van 13.30
 -15.30 uur\n\nGraag tot dan!!
ATTACH;FMTTYPE=image/jpeg:https://www.nvwc.nl/wp-content/uploads/2025/11/V
 ogelvoer-maken-c-Winny-Verdouw.jpg
LOCATION:De Steenuil\, Steenovenslaan 20\, Culemborg\, Nederland
X-APPLE-STRUCTURED-LOCATION;VALUE=URI;X-ADDRESS=Steenovenslaan 20\, Culembo
 rg\, Nederland;X-APPLE-RADIUS=100;X-TITLE=De Steenuil:geo:0,0
END:VEVENT
BEGIN:VTIMEZONE
TZID:Europe/Amsterdam
X-LIC-LOCATION:Europe/Amsterdam
BEGIN:STANDARD
DTSTART:20251026T020000
TZOFFSETFROM:+0200
TZOFFSETTO:+0100
TZNAME:CET
END:STANDARD
END:VTIMEZONE
END:VCALENDAR