BEGIN:VCALENDAR
VERSION:2.0
PRODID:-//wp-events-plugin.com//7.2.3.1//EN
BEGIN:VEVENT
UID:145@nvwc.nl
DTSTART;TZID=Europe/Amsterdam:20250928T133000
DTEND;TZID=Europe/Amsterdam:20250928T153000
DTSTAMP:20250901T192658Z
URL:https://www.nvwc.nl/agenda/jeugdactiviteit-zien-en-niet-gezien-worden-
 op-28-september/
SUMMARY:Jeugdactiviteit: Zien en (niet) gezien worden
DESCRIPTION:\n\n\nJeugdactiviteit: Zien en (niet) gezien worden op 28 septe
 mber\n\nDe kunst om niet gezien te worden\n\nDieren en planten in de natuu
 r gebruiken allerlei trucjes om maar niet op te vallen. Ze passen zich aan
  de omgeving aan\, gebruiken schutkleuren\, verstoppen zich enz.\n\nWij ga
 an tijdens het wandelen kijken welke trucjes de dieren gebruiken en dan is
  het natuurlijk de kunst om ze WEL te vinden\, de dieren en planten te ont
 maskeren.\n\nWe gaan speuren\, houden onze oren en ogen wijd open en noter
 en alle dieren en planten die eigenlijk niet gezien wilden worden.\n\nAlle
 en kinderen in de leeftijd van 6 tot en met 12 jaar kunnen meedoen met dez
 e activiteit. Wij zien   jullie dan!!\n\nWanneer: 28 september\, 13:30-1
 5:30 uur. (Datum gewijzigd.)\n\nLocatie: De locatie volgt nog in de mail (
  na opgave) of via de (groeps)app.\n\n\n
ATTACH;FMTTYPE=image/jpeg:https://www.nvwc.nl/wp-content/uploads/2025/09/A
 fbeelding1.jpg
END:VEVENT
BEGIN:VTIMEZONE
TZID:Europe/Amsterdam
X-LIC-LOCATION:Europe/Amsterdam
BEGIN:DAYLIGHT
DTSTART:20250330T030000
TZOFFSETFROM:+0100
TZOFFSETTO:+0200
TZNAME:CEST
END:DAYLIGHT
END:VTIMEZONE
END:VCALENDAR