BEGIN:VCALENDAR
VERSION:2.0
PRODID:-//wp-events-plugin.com//7.2.3.1//EN
BEGIN:VEVENT
UID:188@nvwc.nl
DTSTART;TZID=Europe/Amsterdam:20260508T190000
DTEND;TZID=Europe/Amsterdam:20260509T170000
DTSTAMP:20260419T210142Z
URL:https://www.nvwc.nl/agenda/jubileumeditie-big-day/
SUMMARY:Jubileumeditie Big Day
DESCRIPTION:Van vrijdag 8 mei 19:00 uur tot zaterdag 9 mei 17:00 uur staat 
 de jubileumeditie (25 jaar!) van de Culemborgse Big Day op de agenda. De B
 ig Day is een vogelwedstrijd waarbij teams van twee personen in een gebied
  van ongeveer 80 vierkante kilometer rond Culemborg zoveel mogelijk vogels
 oorten proberen te spotten. Daarbij mogen zij alleen gebruik maken van een
  fiets als vervoermiddel.\n[vcex_spacing size="30px"]\nBen je NVWC-lid en 
 heb je altijd getwijfeld en gedacht om óóit toch eens mee te willen doen
 ? Doe eens gek en geef je gewoon op voor deze unieke vogelervaring. Heb je
  vragen over het evenement? Stel ze gerust aan Job de Boer: jobdeboer@hotm
 ail.com.\n[vcex_spacing size="30px"]\nAanmelden kan tot uiterlijk 4 mei a.
 s. via het bovengenoemde e-mailadres.\n[vcex_spacing size="30px"]\nJob de 
 Boer en Daniël Beuker\n(de winnaars van vorig jaar\, foto gemaakt door Lo
 uis van Oort)
ATTACH;FMTTYPE=image/jpeg:https://www.nvwc.nl/wp-content/uploads/2026/04/B
 ig-day-2025_Daniel-Beuker-en-Job-de-Boer_c-Louis-van-Oort.png
LOCATION:Parkeerterrein voor De Steenuil\, Steenovenslaan 20\, Culemborg\, 
 Nederland
X-APPLE-STRUCTURED-LOCATION;VALUE=URI;X-ADDRESS=Steenovenslaan 20\, Culembo
 rg\, Nederland;X-APPLE-RADIUS=100;X-TITLE=Parkeerterrein voor De Steenuil:
 geo:0,0
END:VEVENT
BEGIN:VTIMEZONE
TZID:Europe/Amsterdam
X-LIC-LOCATION:Europe/Amsterdam
BEGIN:DAYLIGHT
DTSTART:20260329T030000
TZOFFSETFROM:+0100
TZOFFSETTO:+0200
TZNAME:CEST
END:DAYLIGHT
END:VTIMEZONE
END:VCALENDAR