BEGIN:VCALENDAR
VERSION:2.0
PRODID:-//wp-events-plugin.com//7.2.3.1//EN
BEGIN:VEVENT
UID:114@nvwc.nl
DTSTART;TZID=Europe/Amsterdam:20250222T090000
DTEND;TZID=Europe/Amsterdam:20250222T140000
DTSTAMP:20250214T085840Z
URL:https://www.nvwc.nl/agenda/knotploeg-aan-de-slag-bij-werk-aan-het-spoe
 l/
SUMMARY:Laatste knotdag\, locatie Redichemse Waard
DESCRIPTION:Zaterdag 22 februari: locatie: Redichemse Waard\n\nAanvang 9:00
  uur tot ongeveer 14:00 uur (of enkele uurtjes).\n\n&nbsp\;\n\nTwee geslaa
 gde snoeidagen in januari en februari. Goede opkomst\, mooi weer en trakta
 ties.\nDe laatste snoeidag van dit winterseizoen gaan we terug naar de Red
 ichemse Waard na een uitstapje naar Werk aan het Spoel. In samenwerking me
 t het Collectief gaan we verder werken aan de rij knotwilgen aan de oostka
 nt. Het hout wordt versnipperd\, maar liefhebbers mogen het hout meenemen 
 (takken\, stammen etc.)\n\n&nbsp\;\n\nHet terrein is normaal niet toeganke
 lijk voor bezoekers met een auto. Alleen met fiets of te voet. Voor de vri
 jwilligers die graag hout meenemen met de auto is het wenselijk dat zij om
  9:00 uur aanwezig zijn bij het grote toegangshek aan de Beusichemsedijk t
 egenover de Achterweg. Het toegangshek wordt daarna weer gesloten. Uiteraa
 rd wordt het geopend bij (tussentijds) vertrek. \n\n&nbsp\;\n\n \n\nBerei
 kbaarheid  Werk aan het Spoel\nBeusichemsedijk ter hoogte afrit van de Ac
 hterweg. Met de auto parkeren op de dijk. Kom daarom liefst per fiets. De 
 snoeiplaats is enkele honderden meters lopen of fietsen. Het pad volgen to
 t aan de plas en dan naar rechts (oostkant).\n\n&nbsp\;\n\nBenodigdheden\n
 Voor gereedschap\, koffie wordt gezorgd. Zelf voor brood zorgen. Denk aan 
 geschikte kleding/laarzen/handschoenen!\n\n&nbsp\;\n\nOverig\nWie twijfelt
  of de snoeidag gezien de weersomstandigheden door kan gaan neemt op de da
 g zelf na 7:30 uur contact op met 06-44704754.\nEr is ook een app-groep 
 “Knotten” zodat bijzonderheden snel kunnen worden doorgeven. Geef voor
  deelname aan deze groep je naam en telefoonnummer door.\n\n&nbsp\;\n\nMee
 r informatie en contact\nHarry van de Warenburg\, Grondzeilerweg 9\, tel: 
 06-44704754\, e-mail: h.j.m.van.dewarenburg@freeler.nl\nWim Smits\, Hoogei
 nde 8\, Zoelmond\, 06-22905551\n\n&nbsp\;\n\nVast voor de agenda: 22 novem
 ber start het knotseizoen voor de winter 2025/2026\n\n&nbsp\;\n\nFoto knot
 ten Redichemse Waard: Hans van de Warenburg
ATTACH;FMTTYPE=image/jpeg:https://www.nvwc.nl/wp-content/uploads/2024/12/2
 0250111-Knotten-Redichemse-Waard_HansvdW-5.jpg
LOCATION:Redichemse Waard\, Beusichemsedijk\, langs de Lek\, Culemborg\, Ne
 derland
X-APPLE-STRUCTURED-LOCATION;VALUE=URI;X-ADDRESS=Beusichemsedijk\, langs de 
 Lek\, Culemborg\, Nederland;X-APPLE-RADIUS=100;X-TITLE=Redichemse Waard:ge
 o:0,0
END:VEVENT
BEGIN:VTIMEZONE
TZID:Europe/Amsterdam
X-LIC-LOCATION:Europe/Amsterdam
BEGIN:STANDARD
DTSTART:20241027T020000
TZOFFSETFROM:+0200
TZOFFSETTO:+0100
TZNAME:CET
END:STANDARD
END:VTIMEZONE
END:VCALENDAR