BEGIN:VCALENDAR
VERSION:2.0
PRODID:-//wp-events-plugin.com//7.2.3.1//EN
BEGIN:VEVENT
UID:113@nvwc.nl
DTSTART;TZID=Europe/Amsterdam:20250111T090000
DTEND;TZID=Europe/Amsterdam:20250111T140000
DTSTAMP:20241217T083742Z
URL:https://www.nvwc.nl/agenda/knotten-redichemse-waard/
SUMMARY:Knotten Redichemse Waard
DESCRIPTION:Locatie: Redichemse Waard – Beusichemsedijk Culemborg\n\nAanv
 ang 9:00 uur tot ongeveer 14:00 uur (of enkele uurtjes).\n\nDe eerste twee
  werkdagen in november en december zijn 16 wilgen gesnoeid\, waaronder enk
 ele behoorlijk zware exemplaren.\nDe derde snoeidag van dit winterseizoen 
 gaan wij met vrijwilligers van het Collectief Redichemse Waard aan het wer
 k. Het collectief heeft een inventarisatie van de knotwilgen gemaakt. Op d
 it moment is nog niet duidelijk welke bomen op het terrein als eerste aan 
 de beurt zijn. Gezien het aantal bomen en de volle pruiken is er geen gebr
 ek aan werk en is elk handje welkom. Het hout wordt versnipperd maar liefh
 ebbers mogen het hout meenemen: takken\, stammen etc.\nMaar let op:\nHet t
 errein is normaal niet toegankelijk voor bezoekers met een auto. Alleen me
 t fiets of te voet. Voor de vrijwilligers die graag hout meenemen met de a
 uto is het wenselijk dat zij om 9:00 uur aanwezig zijn bij het grote toega
 ngshek aan de Beusichemsedijk tegenover de Achterweg. Het toegangshek word
 t daarna weer gesloten. Uiteraard wordt het geopend bij (tussentijds) vert
 rek. \n\n&nbsp\;\n\nBereikbaarheid\nBeusichemsedijk ter hoogte afrit van d
 e Achterweg. Met de auto parkeren op de dijk. Kom daarom liefst per fiets.
  De snoeiplaats is enkele honderden meters lopen of fietsen. Afhankelijk v
 an de exacte plek.\n\n&nbsp\;\n\nBenodigdheden\nVoor gereedschap\, koffie 
 wordt gezorgd. Zelf voor brood zorgen. Denk aan geschikte kleding/laarzen/
 handschoenen!\n\n&nbsp\;\n\nOverig\nWie twijfelt of de snoeidag gezien de 
 weersomstandigheden door kan gaan neemt op de dag zelf na 7:30 uur contact
  op met 06-44704754.\nEr is ook een app-groep “Knotten” zodat bijzonde
 rheden snel kunnen worden doorgeven. Geef voor deelname aan deze groep je 
 naam en telefoonnummer door.\n\n&nbsp\;\n\nMeer informatie en contact\nHar
 ry van de Warenburg\, Grondzeilerweg 9\,06-44704754\, e-mail: h.j.m.van.de
 warenburg@freeler.nl\nWim Smits\, Hoogeinde 8\, Zoelmond\, 06-22905551\nVo
 lgende knotdag: zaterdag 1  februari - Werk a/h Spoel\nLaatste werkdag: z
 aterdag 22 februari – locatie nog te bepalen\n\n&nbsp\;\n\nFoto knotwilg
 en Redichemse Waard: Johan de Kruif
ATTACH;FMTTYPE=image/jpeg:https://www.nvwc.nl/wp-content/uploads/2023/01/2
 021-Knotwilgen-Redichemse-waard_JdK.jpg
LOCATION:Redichemse Waard\, Beusichemsedijk\, langs de Lek\, Culemborg\, Ne
 derland
X-APPLE-STRUCTURED-LOCATION;VALUE=URI;X-ADDRESS=Beusichemsedijk\, langs de 
 Lek\, Culemborg\, Nederland;X-APPLE-RADIUS=100;X-TITLE=Redichemse Waard:ge
 o:0,0
END:VEVENT
BEGIN:VTIMEZONE
TZID:Europe/Amsterdam
X-LIC-LOCATION:Europe/Amsterdam
BEGIN:STANDARD
DTSTART:20241027T020000
TZOFFSETFROM:+0200
TZOFFSETTO:+0100
TZNAME:CET
END:STANDARD
END:VTIMEZONE
END:VCALENDAR