BEGIN:VCALENDAR
VERSION:2.0
PRODID:-//wp-events-plugin.com//7.2.3.1//EN
BEGIN:VEVENT
UID:153@nvwc.nl
DTSTART;TZID=Europe/Amsterdam:20251213T090000
DTEND;TZID=Europe/Amsterdam:20251213T140000
DTSTAMP:20251130T120244Z
URL:https://www.nvwc.nl/agenda/knotwerkdag-2/
SUMMARY:Knotwerkdag
DESCRIPTION:Zaterdag 13 december 2025\n\nLocatie: Redichemse Waard – Beus
 ichemsedijk Culemborg\n\nAanvang 09u00 tot ongeveer 14u00\n\nVoor komend w
 interseizoen staan er 5 werkdagen gepland. Vooralsnog op 2 locaties\, Redi
 chemse Waard en Armenboomgaard (naast Werk aan het Spoel). Andere locaties
  zijn deels niet mogelijk i.v.m. stookverbod afvalhout. Een schouw afgelop
 en zomer met Peter Verhallen en Yme-Jan Bosma namens het collectief Redich
 emse Waard leverde op dat er meer dan voldoende werk is. Met de gemeente C
 ulemborg zal nog afstemming plaatsvinden welke knotwilgen prioriteit hebbe
 n. Het hout wordt versnipperd\, maar liefhebbers mogen het hout (takken\, 
 stammen\, etc.) ook meenemen.\n\nMaar let op:\n\nHet terrein is normaal ni
 et toegankelijk voor bezoekers met een auto. Alleen met fiets of te voet. 
 Voor de vrijwilligers die graag hout meenemen met de auto is het wenselijk
  dat zij om 09u00 aanwezig zijn bij het grote toegangshek aan de Beusichem
 sedijk tegenover de Achterweg. Het toegangshek wordt daarna weer gesloten.
  Uiteraard wordt het geopend bij (tussentijds) vertrek. \n\nBereikbaarheid
  \n\nBeusichemsedijk ter hoogte afrit van de Achterweg. Met de auto parker
 en op de dijk. Kom daarom liefst per fiets. De snoeiplaats is enkele honde
 rden meters lopen of fietsen. Afhankelijk van de exacte plek op het terrei
 n.\n\nBenodigdheden\nVoor gereedschap\, koffie wordt gezorgd. Zelf voor br
 ood zorgen. Denk aan geschikte kleding/laarzen/handschoenen! Wie slechts e
 nkele uurtjes kan is uiteraard ook van harte welkom.\n\nOverig\nWie twijfe
 lt of de snoeidag gezien de weersomstandigheden door kan gaan neemt op de 
 dag zelf na 07u30 contact op met 06-44704754.
ATTACH;FMTTYPE=image/jpeg:https://www.nvwc.nl/wp-content/uploads/2025/10/P
 eter-Verhallen-in-knotwilg-c-Theo-Verhallen.jpg
END:VEVENT
BEGIN:VTIMEZONE
TZID:Europe/Amsterdam
X-LIC-LOCATION:Europe/Amsterdam
BEGIN:STANDARD
DTSTART:20251026T020000
TZOFFSETFROM:+0200
TZOFFSETTO:+0100
TZNAME:CET
END:STANDARD
END:VTIMEZONE
END:VCALENDAR