BEGIN:VCALENDAR
VERSION:2.0
PRODID:-//wp-events-plugin.com//7.2.3.1//EN
BEGIN:VEVENT
UID:152@nvwc.nl
DTSTART;TZID=Europe/Amsterdam:20251122T090000
DTEND;TZID=Europe/Amsterdam:20251122T140000
DTSTAMP:20251014T080347Z
URL:https://www.nvwc.nl/agenda/knotwerkdag/
SUMMARY:Knotwerkdag
DESCRIPTION:Zaterdag 22 november \n\nLocatie: Redichemse Waard – Beusich
 emsedijk Culemborg\n\nAanvang 09u00 tot ongeveer 14u00\n\nVoor komend wint
 erseizoen staan er 5 werkdagen gepland. Vooralsnog op 2 locaties\, Rediche
 mse Waard en Armenboomgaard (naast Werk aan het Spoel). Andere locaties zi
 jn deels niet mogelijk i.v.m. stookverbod afvalhout. Een schouw afgelopen 
 zomer met Peter Verhallen en Yme-Jan Bosma namens het collectief Redichems
 e Waard leverde op dat er meer dan voldoende werk is. Met de gemeente Cule
 mborg zal nog afstemming plaatsvinden welke knotwilgen prioriteit hebben. 
 Het hout wordt versnipperd maar liefhebbers mogen het hout meenemen\, takk
 en\, stammen etc. Maar let op:\n\nHet terrein is normaal niet toegankelijk
  voor bezoekers met een auto. Alleen met fiets of te voet. Voor de vrijwil
 ligers die graag hout meenemen met de auto is het wenselijk dat zij om 09u
 00 aanwezig zijn bij het grote toegangshek aan de Beusichemsedijk tegenove
 r de Achterweg. Het toegangshek wordt daarna weer gesloten. Uiteraard word
 t het geopend bij (tussentijds) vertrek. \n\nBereikbaarheid \n\nBeusichems
 edijk ter hoogte afrit van de Achterweg. Met de auto parkeren op de dijk. 
 Kom daarom liefst per fiets. De snoeiplaats is enkele honderden meters lop
 en of fietsen. Afhankelijk van de exacte plek op het terrein.\n\nBenodigdh
 eden\nVoor gereedschap\, koffie wordt gezorgd. Zelf voor brood zorgen. Den
 k aan geschikte kleding/laarzen/handschoenen! Wie slechts enkele uurtjes k
 an is uiteraard ook van harte welkom.\n\nOverig\nWie twijfelt of de snoeid
 ag gezien de weersomstandigheden door kan gaan neemt op de dag zelf na 07u
 30 contact op met 06-44704754.
END:VEVENT
BEGIN:VTIMEZONE
TZID:Europe/Amsterdam
X-LIC-LOCATION:Europe/Amsterdam
BEGIN:STANDARD
DTSTART:20251026T020000
TZOFFSETFROM:+0200
TZOFFSETTO:+0100
TZNAME:CET
END:STANDARD
END:VTIMEZONE
END:VCALENDAR