BEGIN:VCALENDAR
VERSION:2.0
PRODID:-//wp-events-plugin.com//7.2.3.1//EN
BEGIN:VEVENT
UID:164@nvwc.nl
DTSTART;TZID=Europe/Amsterdam:20260110T090000
DTEND;TZID=Europe/Amsterdam:20260110T140000
DTSTAMP:20260108T172602Z
URL:https://www.nvwc.nl/agenda/knotwilgen-snoeien-werk-aan-het-spoel-armen
 boomgaard/
SUMMARY:Knotwilgen snoeien Werk aan het Spoel - Armenboomgaard Gaat niet do
 or ivm weersomstandigheden
DESCRIPTION:KNOTWERKGROEP NVWC\n\nZaterdag  10 januari 2026\n\nLocatie:  
 Werk aan het Spoel - Armenboomgaard\n\nAanvang 9.00 uur tot ongeveer 14.00
  uur\n\nOp de eerste snoeidag van dit jaar gaan wij de vrijwilligers van h
 et Geldersch Landschap en Kasteelen ondersteunen\, die zich bezighouden me
 t het landschapsbeheer in de armenboomgaard en uiterwaarden tussen Werk aa
 n het Spoel en Fort Everdingen.\n\nDe knotwilgen rondom de boomgaard zijn 
 na 4 jaar toe aan een snoeibeurt. Vanwege de biodiversiteit wordt een van 
 de twee rijen gesnoeid. Inschatting is\, dat het met een grote opkomst en 
 goede weersomstandigheden in een zaterdag kan lukken. Zo niet dan vindt he
 t vervolg plaats op zaterdag 31 januari.\n\nHout kan worden meegenomen\, h
 et restant wordt te zijner tijd versnipperd.\n\nBereikbaarheid \n\nDe loca
 tie ligt naast Werk aan het Spoel in de uiterwaard aan de Goilberdingerdij
 k. Fietsen en auto’s graag parkeren bij de parkeerplaats van Werk aan he
 t Spoel en niet op de dijk. De ingang van de boomgaard is dan slechts enke
 le tientallen meters lopen voorbij het restaurant.\n\nBenodigdheden\nVoor 
 gereedschap\, koffie wordt gezorgd. Zelf s.v.p. voor brood zorgen. Denk aa
 n geschikte kleding/laarzen/handschoenen !!!. Wie slechts enkele uurtjes k
 an is uiteraard ook van harte welkom.\n\nOverig\nWie twijfelt of de snoeid
 ag gezien de weersomstandigheden door kan gaan neemt op de dag zelf na 07u
 30 contact op met 06-44704754  of kom voor 8.30 uur naar de Steenuil\, St
 eenovenslaan 20 Culemborg\n\nMeer informatie en contact\n\nHarry van de Wa
 renburg\, Grondzeilerweg 9  06-44704754\,  e-mail: h.j.m.van.dewarenburg
 @freeler.nl\n\nWim Smits\, Hoogeinde 8\, Zoelmond\, tel. 0345 -501671.\n\n
 Resterende snoeidagen dit winterseizoen: 31 januari en 21 februari
ATTACH;FMTTYPE=image/jpeg:https://www.nvwc.nl/wp-content/uploads/2025/12/F
 oto-6_Knotwerkgroep_nov-dec-25.jpg
LOCATION:Werk aan het Spoel\, Goilberdingerdijk 40\, 4106 LC  Culemborg\, N
 ederland
X-APPLE-STRUCTURED-LOCATION;VALUE=URI;X-ADDRESS=Goilberdingerdijk 40\, 4106
  LC  Culemborg\, Nederland;X-APPLE-RADIUS=100;X-TITLE=Werk aan het Spoel:g
 eo:0,0
END:VEVENT
BEGIN:VTIMEZONE
TZID:Europe/Amsterdam
X-LIC-LOCATION:Europe/Amsterdam
BEGIN:STANDARD
DTSTART:20251026T020000
TZOFFSETFROM:+0200
TZOFFSETTO:+0100
TZNAME:CET
END:STANDARD
END:VTIMEZONE
END:VCALENDAR