BEGIN:VCALENDAR
VERSION:2.0
PRODID:-//wp-events-plugin.com//7.2.3.1//EN
BEGIN:VEVENT
UID:166@nvwc.nl
DTSTART;TZID=Europe/Amsterdam:20260221T090000
DTEND;TZID=Europe/Amsterdam:20260221T140000
DTSTAMP:20260130T201217Z
URL:https://www.nvwc.nl/agenda/knotwilgen-snoeien/
SUMMARY:Knotwilgen snoeien
DESCRIPTION:KNOTWERKGROEP NVWC\nZaterdag 21 februari 2026\nLocatie: Rediche
 mse Waard – Beusichemsedijk Culemborg\nVan 9.00 uur tot ongeveer 14.00 u
 ur\n\n&nbsp\;\n\nDe laatste snoeidag van deze winter gaan we opnieuw aan d
 e slag op de Redichemse Waard\, met nog ongeveer 12\nbomen. Dan is de acht
 erstand in het knotten op deze locatie weggewerkt. Dit betekent dat met\ng
 emiddeld twee werkdagen per jaar alle knotwilgen kunnen worden gesnoeid al
 s de takken 3-5 jaar oud zijn.\nEen mooie prestatie van alle vrijwilligers
  van de NVWC\, het Collectief en ook de ondersteuning van\nde vrijwilliger
 s van het Geldersch Landschap.\n\n&nbsp\;\n\nVolgende winter starten wij o
 p zaterdag 21 november\, noteer dit alvast in de agenda!\n\n&nbsp\;\n\nHet
  terrein is normaal niet toegankelijk voor bezoekers met een auto. Alleen 
 met fiets of te voet.\nVoor de vrijwilligers die graag hout meenemen met d
 e auto is het wenselijk dat zij om 9.00 uur\naanwezig zijn bij het grote t
 oegangshek aan de Beusichemsedijk tegenover de Achterweg. Het\ntoegangshek
  wordt daarna weer gesloten. Uiteraard wordt het geopend bij (tussentijds)
  vertrek.\n\n&nbsp\;\n\nLocatie en bereikbaarheid\nBeusichemsedijk ter hoo
 gte van de Achterweg. Met de auto parkeren op de dijk. Kom daarom\nhet lie
 fst per fiets. De snoeiplaats is op enkele honderden meters lopen of fiets
 en\, afhankelijk van de exacte\nplek op het terrein.\n\n&nbsp\;\n\nBenodig
 dheden\nVoor gereedschap en koffie wordt gezorgd. Zelf voor brood zorgen. 
 Denk aan geschikte\nkleding/laarzen/handschoenen! Wie slechts enkele uurtj
 es kan is uiteraard ook van harte welkom.\n\n&nbsp\;\n\nOverig\nWie twijfe
 lt of de snoeidag gezien de weersomstandigheden door kan gaan\, neemt op d
 e dag zelf na\n7.30 uur contact op met 06-44704754.\n\n&nbsp\;\n\nEr is oo
 k een app-groep “Knotten” zodat bijzonderheden snel kunnen worden door
 geven. Geef\nvoor deelname aan deze groep je naam en telefoonnummer door.\
 n\n&nbsp\;\n\nMeer informatie en contact\nHarry van de Warenburg\, Grondze
 ilerweg 9\, Culemborg\, 06-44704754\, e-mail: h.j.m.van.dewarenburg@freele
 r.nl\nWim Smits\, Hoogeinde 8\, Zoelmond\, 06-22905551
ATTACH;FMTTYPE=image/jpeg:https://www.nvwc.nl/wp-content/uploads/2025/12/F
 oto-4_Knotwerkgroep_nov-dec-25.jpg
LOCATION:Beusichemsedijk\, tegenover de Achterweg\, Culemborg\, 
X-APPLE-STRUCTURED-LOCATION;VALUE=URI;X-ADDRESS=Culemborg\, ;X-APPLE-RADIUS
 =100;X-TITLE=Beusichemsedijk\, tegenover de Achterweg:geo:0,0
END:VEVENT
BEGIN:VTIMEZONE
TZID:Europe/Amsterdam
X-LIC-LOCATION:Europe/Amsterdam
BEGIN:STANDARD
DTSTART:20251026T020000
TZOFFSETFROM:+0200
TZOFFSETTO:+0100
TZNAME:CET
END:STANDARD
END:VTIMEZONE
END:VCALENDAR