BEGIN:VCALENDAR
VERSION:2.0
PRODID:-//wp-events-plugin.com//7.2.3.1//EN
BEGIN:VEVENT
UID:151@nvwc.nl
DTSTART;TZID=Europe/Amsterdam:20251015T200000
DTEND;TZID=Europe/Amsterdam:20251015T220000
DTSTAMP:20250923T084314Z
URL:https://www.nvwc.nl/agenda/lezing-15-oktober-2025/
SUMMARY:Lezing 15 oktober 2025
DESCRIPTION:Madagascars vogels en andere wonderlijke beesten\n\ndoor Dinky 
 van Berkel en Stef Strik\n\nDinky en Stef zijn beide vogelaars in hart en 
 nieren. Beide doen de nodige tellingen en inventarisaties en beide functio
 neren zo nu en dan als gids of vogelreisleider. In 2023 bracht deze liefde
  voor vogels en natuur in de breedste zin hen naar Madagascar. Madagascar 
 is een eiland dat al heel erg lang los is van Afrika en daardoor een wonde
 rlijke natuur ontwikkeld heeft met allerlei endemische diersoorten\, dat z
 ijn soorten die alleen daar voorkomen en nergens anders in de wereld. Ze b
 ezoeken de nationale parken voor ontmoetingen met prachtige vogelsoorten\,
  bijzondere zoogdieren (lemuren) een groot scala aan reptielen waaronder k
 ameleons\, kleurrijke vlinders en mooie landschappen.Langs komen oerwouden
 \, een stenenwoud\, eilanden en de overal aanwezige oceaan. Dinky en Stef 
 nemen ons mee op hun rondreis en laten ons op hun eigen enthousiaste wijze
  hun belevenissen meebeleven.\n\nDeze lezing is de eerste in een serie van
  drie over Afrika\n\nWanneer: woensdag 15 oktober 2025\n\nWaar: ‘Steenui
 l’\, Steenovenslaan 20\, 4101 AM Culemborg\n\nTijd: 20.00 –22.00 uur (
 u bent welkom vanaf 19.30 uur)\n\nToegang gratis\n\nAanmelden niet nodig\n
 \nVoor meer informatie: Annette van Berkel lezingcoor@nvwc.nl
ATTACH;FMTTYPE=image/jpeg:https://www.nvwc.nl/wp-content/uploads/2025/09/M
 adagascar-1-scaled.jpg
END:VEVENT
BEGIN:VTIMEZONE
TZID:Europe/Amsterdam
X-LIC-LOCATION:Europe/Amsterdam
BEGIN:DAYLIGHT
DTSTART:20250330T030000
TZOFFSETFROM:+0100
TZOFFSETTO:+0200
TZNAME:CEST
END:DAYLIGHT
END:VTIMEZONE
END:VCALENDAR