BEGIN:VCALENDAR
VERSION:2.0
PRODID:-//wp-events-plugin.com//7.2.3.1//EN
BEGIN:VEVENT
UID:163@nvwc.nl
DTSTART;TZID=Europe/Amsterdam:20260121T200000
DTEND;TZID=Europe/Amsterdam:20260121T220000
DTSTAMP:20251217T161107Z
URL:https://www.nvwc.nl/agenda/lezing-culemborgse-vogelaars-in-marokko/
SUMMARY:Lezing: Culemborgse vogelaars in Marokko
DESCRIPTION:In april 2025 maakten drie NVWC-ers\, Arjan Brenkman\, Berry Lu
 cas en Gerrit Jan Klop\, een prachtige vogelreis door Marokko om de rande
 n van ons vogelboek op te zoeken. Op deze avond nemen zij ons mee van de b
 esneeuwde bergen in de Hoge Atlas\, via de uitgestrekte steenwoestijn en d
 e zandwoestijn van het oosten\, naar de Atlantische kust.\n\nZij zijn door
  schitterende landschappen gereisd en hebben de gastvrije bevolking leren 
 kennen.\n\n&nbsp\;\n\nVogels waren het hoofddoel van de reis\, maar een ec
 hte NVWC-er kijkt natuurlijk ook naar vlinders\, libellen en al het ander
 e dat beweegt of bloeit. Te verwachten zijn veel tapuiten\, leeuweriken en
  zandhoenders\; vogels die je wel uit je vogelboek kent maar nog nooit heb
 t gezien. Hoe vind je een Afrikaans waterhoen op een plek met veel riet? H
 oe krijg je woestijnmussen zo gek dat ze op een tent gaan poseren? Naar w
 elke soorten ga je zoeken op een vuilnisbelt tussen de roedels wilde hond
 en? Wat is de kans dat je tussen de kamelen in de zandwoestijn nog twee be
 kende Culemborgers tegenkomt? Allemaal vragen die tijdens deze avondvulle
 nde lezing zullen worden beantwoord.\n\nKortom kom deze prachtige reis mee
 beleven!\n\n[gallery columns="4" link="file" ids="7568\,7569"]\n\nWanneer:
  woensdag 21 januari 2026\n\nWaar: ‘Steenuil’\, Steenovenslaan 20\, 41
 01 AM Culemborg\n\nTijd: 20.00 –22.00 uur (u bent welkom vanaf 19.30 uur
 )\n\nToegang gratis\n\nAanmelden niet nodig\n\nVoor meer informatie: Annet
 te van Berkel lezingcoor@nvwc.nl\n\n&nbsp\;\n\n&nbsp\;\n\n&nbsp\;\n\n&nbsp
 \;
ATTACH;FMTTYPE=image/jpeg:https://www.nvwc.nl/wp-content/uploads/2025/12/D
 iksnavelleeuwerik-1024.jpg
LOCATION:De Steenuil\, Steenovenslaan 20\, Culemborg\, Nederland
X-APPLE-STRUCTURED-LOCATION;VALUE=URI;X-ADDRESS=Steenovenslaan 20\, Culembo
 rg\, Nederland;X-APPLE-RADIUS=100;X-TITLE=De Steenuil:geo:0,0
END:VEVENT
BEGIN:VTIMEZONE
TZID:Europe/Amsterdam
X-LIC-LOCATION:Europe/Amsterdam
BEGIN:STANDARD
DTSTART:20251026T020000
TZOFFSETFROM:+0200
TZOFFSETTO:+0100
TZNAME:CET
END:STANDARD
END:VTIMEZONE
END:VCALENDAR