BEGIN:VCALENDAR
VERSION:2.0
PRODID:-//wp-events-plugin.com//7.2.3.1//EN
BEGIN:VEVENT
UID:141@nvwc.nl
DTSTART;TZID=Europe/Amsterdam:20251125T193000
DTEND;TZID=Europe/Amsterdam:20251125T220000
DTSTAMP:20250726T182744Z
URL:https://www.nvwc.nl/agenda/lezing-de-geschiedenis-van-natuurbeheer-doo
 r-dik-v-d-meulen-en-kars-veling-in-de-fransche-school/
SUMMARY:Lezing ‘De geschiedenis van natuurbeheer’ door Dik v.d. Meulen 
 en Kars Veling in de Fransche School
DESCRIPTION:Zonder Jac. P. Thijsse had Nederland er anders uitgezien. In zi
 jn voordracht zal biograaf Dik van der Meulen\, wiens boek over Thijsse en
  het landschap in november 2025 zal verschijnen\, ingaan op de betekenis v
 an Thijsse voor de natuurbescherming. Als oprichter van Natuurmonumenten e
 n als schrijver van talloze boeken en artikelen\, waaronder een groot aant
 al Verkade-albums\, wist Thijsse de Nederlanders zover te krijgen dat ze v
 an de natuur gingen houden. Van der Meulen gaat ook in op de huidige staat
  van Thijsses natuur.\n\nDe Natuur- en Vogelwacht Culemborg (NVWC) viert i
 n 2025 haar 50ste verjaardag. Vijftig jaar lang natuuronderzoek\, natuur 
 beschermen en vertellen over de natuur. Over de natuur in en om Culemborg\
 , hoe het daarmee gaat en wat er wordt gedaan aan behoud en herstel\, zal 
 Kars Veling ons aansluitend aan de lezing van Dik van der Meulen vertellen
 .\n\n&nbsp\;\n\n\n\n\n\n\nDik van der Meulen (links) schrijft over uiteenl
 opende onderwerpen. Voor zijn biografie van koning Willem III ontving hij 
 de Libris Geschiedenis Prijs en zijn boek over wolven en mensen werd met d
 e Jan Wolkers Prijs bekroond.\n\nKars Veling (rechts) is vanaf de oprichti
 ng van de NVWC lid en is momenteel voorzitter. Hij is bioloog en in het da
 gelijks leven werkzaam bij De Vlinderstichting.\n\nPraktische informatie\n
 Datum: dinsdag 25 november 2025\nPlaats: Theater De Fransche School\nZ
 aal open: 19.00 uur\nAanvang lezing: 19.30 uur\n\nVoor het bijwonen van de
  lezing dient u zich aan te melden via de website van Theater De Fransche 
 School. Dat kunt u hier doen. Als u lid van Voet bent kunt u de actiecod
 e VOET2025 gebruiken voor gratis toegang. Niet leden kunnen vanaf een week
  voor de lezing boeken en betalen € 5\,- entree.\nHet kopje koffie of th
 ee voorafgaand aan de lezing wordt u aangeboden door het Genootschap.\n\
 nIn de Fransche School kunt u niet meer met contant geld betalen.\n\n&nbsp
 \;
ATTACH;FMTTYPE=image/jpeg:https://www.nvwc.nl/wp-content/uploads/2025/07/K
 notwilgen-snoeien.jpg
END:VEVENT
BEGIN:VTIMEZONE
TZID:Europe/Amsterdam
X-LIC-LOCATION:Europe/Amsterdam
BEGIN:STANDARD
DTSTART:20251026T020000
TZOFFSETFROM:+0200
TZOFFSETTO:+0100
TZNAME:CET
END:STANDARD
END:VTIMEZONE
END:VCALENDAR