BEGIN:VCALENDAR
VERSION:2.0
PRODID:-//wp-events-plugin.com//7.2.3.1//EN
BEGIN:VEVENT
UID:173@nvwc.nl
DTSTART;TZID=Europe/Amsterdam:20260218T200000
DTEND;TZID=Europe/Amsterdam:20260218T220000
DTSTAMP:20260125T172548Z
URL:https://www.nvwc.nl/agenda/lezing-hommels-leven-en-werk/
SUMMARY:Lezing: Hommels: leven en werk
DESCRIPTION:Annette van Berkel is al heel lang gefascineerd door hommels en
  is al jaren bezig ze te fotograferen en te filmen. Zij probeert te ontraf
 elen wat ze in haar tuin en omgeving doen en wat dat zegt over waar ze mee
  bezig zijn.\n\n&nbsp\;\n\nAan de hand van de algemene hommelsoorten en hu
 n koekoekshommels komen allerlei aspecten van hun gedrag en hun leefwijze 
 aan bod. Hoe krijgt een koningin het voor elkaar om een nest op te starten
 ?  Wat gebeurt er allemaal in zo’n nest? Hoe ziet dat er uit? En hoe vi
 nden mannetjes en nieuwe koninginnen elkaar? Hoe overwinteren ze? Wat zijn
  hun relaties met andere dieren en ziekteverwekkers? Hoe vinden ze genoeg 
 bloemen? Hoe nuttig zijn ze als bestuiver? Hoe kunnen we ze helpen? Dat en
  nog veel meer komt aan bod in deze lezing. Haar verhaal wordt ondersteund
  door prachtige foto’s en filmbeelden.\n\n&nbsp\;\n\nIn deze presentatie
  beleeft ze samen met u het leven van de hommels.\n\n&nbsp\;\n\nWanneer: w
 oensdag 18 februari 2026\n\nWaar: ‘Steenuil’\, Steenovenslaan 20\, 410
 1 AM Culemborg\n\nTijd: 20.00 –22.00 uur (u bent welkom vanaf 19.30 uur)
 \n\nToegang gratis\n\nAanmelden niet nodig\n\nVoor meer informatie: Annett
 e van Berkel lezingcoor@nvwc.nl
ATTACH;FMTTYPE=image/jpeg:https://www.nvwc.nl/wp-content/uploads/2026/01/a
 kkerhommel-koningin-_cr43_c-AvB-scaled.jpg
LOCATION:De Steenuil\, Steenovenslaan 20\, Culemborg\, Nederland
X-APPLE-STRUCTURED-LOCATION;VALUE=URI;X-ADDRESS=Steenovenslaan 20\, Culembo
 rg\, Nederland;X-APPLE-RADIUS=100;X-TITLE=De Steenuil:geo:0,0
END:VEVENT
BEGIN:VTIMEZONE
TZID:Europe/Amsterdam
X-LIC-LOCATION:Europe/Amsterdam
BEGIN:STANDARD
DTSTART:20251026T020000
TZOFFSETFROM:+0200
TZOFFSETTO:+0100
TZNAME:CET
END:STANDARD
END:VTIMEZONE
END:VCALENDAR