BEGIN:VCALENDAR
VERSION:2.0
PRODID:-//wp-events-plugin.com//7.2.3.1//EN
BEGIN:VEVENT
UID:155@nvwc.nl
DTSTART;TZID=Europe/Amsterdam:20251119T200000
DTEND;TZID=Europe/Amsterdam:20251119T220000
DTSTAMP:20251026T163932Z
URL:https://www.nvwc.nl/agenda/lezing-kanoen-op-de-zambezi/
SUMMARY:Lezing: Kanoën op de Zambezi
DESCRIPTION:Kanoën op de Zambezi\n\ndoor Abe Maaijen\n\nAbe Maaijen is ged
 urende zijn leven uitgegroeid tot beroepsfotograaf die veel en graag in de
  natuur fotografeert. . Een van zijn specialisaties is panoramafotografie.
  Hij reist graag en uiteraard is fotografie dan ook een deel van het plezi
 er van het reizen. Hij werkt onder andere graag vanaf het water.\n\nVanavo
 nd neemt hij ons mee op reis met de kano over de rivier de Zambezi op de g
 rens tussen Zimbabwe en Zambia. Met zijn vrouw en een aantal gidsen varen 
 ze in 9 dagen van de Kariba dam naar de grens met Mozambique. Onderweg kam
 peren ze op eilandjes. Ze peddelen tussen al het Afrikaanse wild door en o
 ntmoeten uiteraard krokodillen\, nijlpaarden en allerlei andere dieren in 
 of om het water. Het geeft een heel andere perspectief en andere indrukken
  dan bezoek vanuit een landrover.\n\nAbe laat ons delen in zijn belevingen
  tijdens deze prachtige tocht.\n\nDeze lezing is de tweede in een serie va
 n drie over Afrika\n\n \n\nWanneer: woensdag 19 november 2025\n\nWaar: ‘
 Steenuil’\, Steenovenslaan 20\, 4101 AM Culemborg\n\nTijd: 20.00 –22.0
 0 uur (u bent welkom vanaf 19.30 uur)\n\nToegang gratis\n\nAanmelden niet 
 nodig\n\nVoor meer informatie: Annette van Berkel lezingcoor@nvwc.nl\n\n&n
 bsp\;
ATTACH;FMTTYPE=image/jpeg:https://www.nvwc.nl/wp-content/uploads/2025/10/D
 SC_8005-a_cr1024.jpg
END:VEVENT
BEGIN:VTIMEZONE
TZID:Europe/Amsterdam
X-LIC-LOCATION:Europe/Amsterdam
BEGIN:STANDARD
DTSTART:20251026T020000
TZOFFSETFROM:+0200
TZOFFSETTO:+0100
TZNAME:CET
END:STANDARD
END:VTIMEZONE
END:VCALENDAR