BEGIN:VCALENDAR
VERSION:2.0
PRODID:-//wp-events-plugin.com//7.2.3.1//EN
BEGIN:VEVENT
UID:144@nvwc.nl
DTSTART;TZID=Europe/Amsterdam:20250917T200000
DTEND;TZID=Europe/Amsterdam:20250917T220000
DTSTAMP:20250901T192015Z
URL:https://www.nvwc.nl/agenda/lezing-vakantiefotos-en-verhalen-natuur-dic
 htbij-en-veraf/
SUMMARY:Lezing vakantiefoto’s en -verhalen: Natuur dichtbij en veraf.
DESCRIPTION:\n\n\nOok dit seizoen starten we de lezingenreeks met korte pre
 sentaties van mensen die hun natuurbelevenissen van ver weg en dichtbij me
 t ons willen delen. Dat kan gaan over reizen\, vakanties\, wandelingen\, t
 uinbelevenissen\, kortom natuurbeleving in de breedste zin van het woord.\
 nDaarvoor zijn twee dingen nodig:\n1. Leden die lekker komen genieten van 
 wat anderen meemaakten. U bent dus van harte uitgenodigd!\n2. En leden die
  het leuk vinden om natuur ervaringen met anderen te delen. Voor deze mens
 en geldt dat zij maximaal een kwartier mogen vertellen en foto’s laten z
 ien (max ca 20 foto’s).\nVoor de planning is het fijn als u van tevoren 
 bij mij meldt dat u wat wil laten zien.\nWanneer: woensdag 17 september 20
 25 20:00-22:00 uur.\nWaar: ‘Steenuil’\, Steenovenslaan 20\, 4101 AM Cu
 lemborg.\n(welkom v.a. 19:30 uur)\, toegang gratis.\nVoor meer informatie:
  Annette van Berkel lezingcoor@nvwc.nl.\n\n\n
ATTACH;FMTTYPE=image/jpeg:https://www.nvwc.nl/wp-content/uploads/2025/09/N
 ymphalis-polychloros-2-Grote-vos-Saxifraga-Jan-van-der-Straaten-1.jpg
END:VEVENT
BEGIN:VTIMEZONE
TZID:Europe/Amsterdam
X-LIC-LOCATION:Europe/Amsterdam
BEGIN:DAYLIGHT
DTSTART:20250330T030000
TZOFFSETFROM:+0100
TZOFFSETTO:+0200
TZNAME:CEST
END:DAYLIGHT
END:VTIMEZONE
END:VCALENDAR