BEGIN:VCALENDAR
VERSION:2.0
PRODID:-//wp-events-plugin.com//7.2.3.1//EN
BEGIN:VEVENT
UID:154@nvwc.nl
DTSTART;TZID=Europe/Amsterdam:20251025T193000
DTEND;TZID=Europe/Amsterdam:20251025T220000
DTSTAMP:20251017T130313Z
URL:https://www.nvwc.nl/agenda/nacht-van-de-nacht-25-oktober/
SUMMARY:Nacht van de Nacht - 25 oktober
DESCRIPTION:Nacht van de Nacht - 25 oktober\nLezing door Roosmarijn Knol in
  de Genieloods op Werk aan het Spoel en optioneel strooptocht nachtvlinder
 s met Kars Veling.\nStart: 19:30 uur.\nEntree: € 10\,00 per persoon.\nAa
 nmelden is noodzakelijk\, via: info@lekart.nl.\nMaximaal aantal deelnemer
 s is 50.
ATTACH;FMTTYPE=image/jpeg:https://www.nvwc.nl/wp-content/uploads/2025/10/F
 oto-1-1024x683-1.jpg
END:VEVENT
BEGIN:VTIMEZONE
TZID:Europe/Amsterdam
X-LIC-LOCATION:Europe/Amsterdam
BEGIN:DAYLIGHT
DTSTART:20250330T030000
TZOFFSETFROM:+0100
TZOFFSETTO:+0200
TZNAME:CEST
END:DAYLIGHT
END:VTIMEZONE
END:VCALENDAR