BEGIN:VCALENDAR
VERSION:2.0
PRODID:-//wp-events-plugin.com//7.2.3.1//EN
BEGIN:VEVENT
UID:167@nvwc.nl
DTSTART;TZID=Europe/Amsterdam:20260111T143000
DTEND;TZID=Europe/Amsterdam:20260111T163000
DTSTAMP:20251217T183842Z
URL:https://www.nvwc.nl/agenda/natuurfilm-in-de-fransche-school-koyaanisqa
 tsi/
SUMMARY:Natuurfilm in De Fransche School: Koyaanisqatsi
DESCRIPTION:Op zondagmiddag 11 januari draait de derde van vier natuurfilms
  in de serie van 2025-2026\, die De Fransche School samen met de NVWC orga
 niseert.\nPrachtige film met muziek van Philip Glass\n\n\nAan de hand van 
 een beeldenreeks\, gemonteerd op de tonen van de muziek van Philip Glass\,
  toont de regisseur ons het verval van de natuur\, te wijten aan menselijk
 e interventie. Een experiment met licht\, snelheid\, geluid en kleur\, dit
  alles op het cursorische muziekthema. Een hallucinerend kijk- en luisters
 pel\, zonder één woord dialoog of uitleg. De titel werd ontleend aan de 
 taal der Hopi-Indianen en betekent zoveel als 'Het leven uit de balans'. D
 e magistrale fotografie was in handen van Ron Fricke\, die ook aan het sce
 nario meewerkte\, samen met Godfrey Reggio\, Michael Hoenig en Alton Walpo
 le. Een film die slechts in de bioscoop op een zo groot mogelijk scherm to
 t zijn recht kan komen.\n\nNVWC-leden hebben korting: gebruik hiervoor tij
 dens het bestellen de code NVWClid.\n\nDe prijs is inclusief drankje.\n\n
ATTACH;FMTTYPE=image/jpeg:https://www.nvwc.nl/wp-content/uploads/2025/12/F
 ilm-Koyaanisqatsi.jpg
LOCATION:Theater De Fransche School\, Havendijk 1\, Culemborg\, Nederland
X-APPLE-STRUCTURED-LOCATION;VALUE=URI;X-ADDRESS=Havendijk 1\, Culemborg\, N
 ederland;X-APPLE-RADIUS=100;X-TITLE=Theater De Fransche School:geo:0,0
END:VEVENT
BEGIN:VTIMEZONE
TZID:Europe/Amsterdam
X-LIC-LOCATION:Europe/Amsterdam
BEGIN:STANDARD
DTSTART:20251026T020000
TZOFFSETFROM:+0200
TZOFFSETTO:+0100
TZNAME:CET
END:STANDARD
END:VTIMEZONE
END:VCALENDAR