BEGIN:VCALENDAR
VERSION:2.0
PRODID:-//wp-events-plugin.com//7.2.3.1//EN
BEGIN:VEVENT
UID:158@nvwc.nl
DTSTART;TZID=Europe/Amsterdam:20251130T143000
DTEND;TZID=Europe/Amsterdam:20251130T163000
DTSTAMP:20251104T180745Z
URL:https://www.nvwc.nl/agenda/natuurfilm-in-de-fransche-school-the-coriol
 is-effect/
SUMMARY:Natuurfilm in De Fransche School: The Coriolis Effect
DESCRIPTION:De tweede van vier natuurfilms in de serie van 2025-2026\, die 
 De Fransche School\nsamen met de NVWC organiseert.\nEen grootse film\, die
  raakt aan het overweldigende en onbenoembare van het leven\nop aarde.\nMa
 gistrale documentaire over de vulkanische eilanden van Kaapverdië\, waar 
 wind en\noceaan het leven van dier en mens bepalen. De schitterende beelde
 n samen met\nbetoverende muziek van gerenommeerde Kaapverdische componist 
 Vasco Martins\nmaken The Coriolis Effect tot een weergaloze ode aan het le
 ven op aarde.\nHier meer info\, trailer en kaarten bestellen. NVWC-leden h
 ebben korting: gebruik\nhiervoor tijdens het bestellen de code NVWClid.
ATTACH;FMTTYPE=image/jpeg:https://www.nvwc.nl/wp-content/uploads/2025/10/V
 _239146_1.jpg.jpg
END:VEVENT
BEGIN:VTIMEZONE
TZID:Europe/Amsterdam
X-LIC-LOCATION:Europe/Amsterdam
BEGIN:STANDARD
DTSTART:20251026T020000
TZOFFSETFROM:+0200
TZOFFSETTO:+0100
TZNAME:CET
END:STANDARD
END:VTIMEZONE
END:VCALENDAR