BEGIN:VCALENDAR
VERSION:2.0
PRODID:-//wp-events-plugin.com//7.2.3.1//EN
BEGIN:VEVENT
UID:115@nvwc.nl
DTSTART;TZID=Europe/Amsterdam:20250119T143000
DTEND;TZID=Europe/Amsterdam:20250119T163000
DTSTAMP:20241225T145113Z
URL:https://www.nvwc.nl/agenda/natuurfilm-wildeboel-in-theater-de-fransche
 -school/
SUMMARY:Natuurfilm “WILDEBOEL!” in Theater De Fransche School
DESCRIPTION:In Theater De Fransche School is in samenwerking met de NVWC op
  19 januari 2025 de natuurfilm “WILDEBOEL!” te zien.\n\n&nbsp\;\n\nMet
  hun nieuwe natuurfilm willen de bekende natuurfilmers Henk en Janetta Bos
  “WILDEBOEL!” presenteren. Er werd gefilmd binnen de beschermde natuur
 pareltjes van Het Drentse Landschap. Tijd noch moeite werden gespaard om d
 e vaak moeilijk te filmen items vast te leggen. En dat heeft unieke en zel
 dzame beelden opgeleverd. Een avontuurlijke reis door de Drentse natuur. E
 en reis die veel verrassende en vaak zeldzame momenten kent. Met een onmis
 kenbaar oog voor details\, die normaal aan het blote oog voorbijgaan. Een 
 film over allerlei dieren en planten die hun draai in die natuurgebieden h
 ebben gevonden en daarin trachten te overleven.\n\n&nbsp\;\n\n“WILDEBOEL
 !” is zonder twijfel een must voor elke natuurliefhebber!\nTrailer: Hier
  alvast een voorproefje\n\n&nbsp\;\n\nEen film van Henk en Janetta Bos.\nD
 uur van de film: 90 minuten.\nDatum: zondagmiddag 19 januari 2025.\nAanvan
 g: 14:30 uur.\nLocatie: Theater de Fransche School\nHavendijk 1\, Culembor
 g\nTelefoon: 0345 – 521546\n\n&nbsp\;\n\nPrijs ticket: €13\,50 (voor V
 riend van Theater de Fransche School €11\,00).\nLeden van de NVWC betale
 n €11\,00. Kortingscode: NVWClid.\nVoor Vriend van het theater én NVWC-
 lid is de prijs €8\,50. Kortingscode: NVWClidvriend.\nDe code vult u in 
 bij het afrekenen.\nDe kaartverkoop is al gestart. In de ticketprijs zit e
 en drankje naar keuze.
ATTACH;FMTTYPE=image/jpeg:https://www.nvwc.nl/wp-content/uploads/2024/12/P
 oster-Wildeboel.png
LOCATION:Theater De Fransche School\, Havendijk 1\, Culemborg\, Nederland
X-APPLE-STRUCTURED-LOCATION;VALUE=URI;X-ADDRESS=Havendijk 1\, Culemborg\, N
 ederland;X-APPLE-RADIUS=100;X-TITLE=Theater De Fransche School:geo:0,0
END:VEVENT
BEGIN:VTIMEZONE
TZID:Europe/Amsterdam
X-LIC-LOCATION:Europe/Amsterdam
BEGIN:STANDARD
DTSTART:20241027T020000
TZOFFSETFROM:+0200
TZOFFSETTO:+0100
TZNAME:CET
END:STANDARD
END:VTIMEZONE
END:VCALENDAR