BEGIN:VCALENDAR
VERSION:2.0
PRODID:-//wp-events-plugin.com//7.2.3.1//EN
BEGIN:VEVENT
UID:162@nvwc.nl
DTSTART;TZID=Europe/Amsterdam:20260107T200000
DTEND;TZID=Europe/Amsterdam:20260107T220000
DTSTAMP:20260105T161916Z
URL:https://www.nvwc.nl/agenda/nieuwjaarsbijeenkomst/
SUMMARY:Woensdagavond 7 januari Nieuwjaarsbijeenkomst\,gaat helaas niet doo
 r!
DESCRIPTION:Hallo iedereen\,\nTot onze spijt moeten we gezien de weersomsta
 ndigheden besluiten de nieuwjaarsbijeenkomst van komende  woensdag af te
  gelasten. Het wordt mogelijk erg glad en de helling naar de Steenuil word
 t dan sowieso een groot obstakel. Mogelijk\, dat we op een later tijdstip 
 nog iets organiseren\, maar dat laten we nog weten.\nHet geeft jullie teve
 ns de gelegenheid om in de vrijgekomen tijd de enquête van de redactie ov
 er de Tsjiep en de Hak-al in te vullen\, er was tot nu toe een geringe res
 pons..\nNamens het bestuur\n&nbsp\;
ATTACH;FMTTYPE=image/jpeg:https://www.nvwc.nl/wp-content/uploads/2025/11/O
 liebollen-c-Frans-Waroux-scaled.jpeg
LOCATION:De Steenuil\, Steenovenslaan 20\, Culemborg\, Nederland
X-APPLE-STRUCTURED-LOCATION;VALUE=URI;X-ADDRESS=Steenovenslaan 20\, Culembo
 rg\, Nederland;X-APPLE-RADIUS=100;X-TITLE=De Steenuil:geo:0,0
END:VEVENT
BEGIN:VTIMEZONE
TZID:Europe/Amsterdam
X-LIC-LOCATION:Europe/Amsterdam
BEGIN:STANDARD
DTSTART:20251026T020000
TZOFFSETFROM:+0200
TZOFFSETTO:+0100
TZNAME:CET
END:STANDARD
END:VTIMEZONE
END:VCALENDAR