BEGIN:VCALENDAR
VERSION:2.0
PRODID:-//wp-events-plugin.com//7.2.3.1//EN
BEGIN:VEVENT
UID:149@nvwc.nl
DTSTART;TZID=Europe/Amsterdam:20251004T100000
DTEND;TZID=Europe/Amsterdam:20251004T150000
DTSTAMP:20250909T112839Z
URL:https://www.nvwc.nl/agenda/nvwc-is-ook-aanwezig-op-de-seniorenbeurs/
SUMMARY:NVWC is ook aanwezig op de seniorenbeurs
DESCRIPTION:\n\n\nOp de Seniorenbeurs 2024 ontmoet je anderen en doe je te
 gelijkertijd informatie op rond het thema “roeien met de riemen die je h
 ebt”. Je maakt kennis met diverse Culemborgse organisaties\, o.a. op het
  gebied van welzijn\, ontmoeten\, zorg\, cultuur\, veiligheid en vrijwilli
 gerswerk.\n\nEr is een markt waar Culemborgse organisaties zich presentere
 n en informatie verstrekken. Daarnaast is er een groot Seniorenplein\, waa
 r je onder het genot van een hapje en drankje kan bijpraten met leeftijdsg
 enoten en bekenden.\n\nEen greep uit de activiteiten:\n\n 	Doorlopende inf
 ormatiemarkt\;\n 	Verkoop van leuke artikelen\;\n 	Hapjes en drankjes\;\n 
 	Sjoelcompetitie met leuke attentie\;\n 	14.00-15.00 uur optreden van ‘F
 ree Line’\n\n\n\n\n\nPraktische info\nWanneer: Zaterdag 5 oktober 2024 v
 an 10.00 tot 15.00 uur\n\nWaar: Grote of Barbarakerk\, ingang aan de Grote
  Kerkstraat 4\, Culemborg\n\nToegang is gratis en aanmelden is niet nodig.
 \n\nHeb je moeite om naar de grote kerk te komen en wil je er toch bij zij
 n?\nNeem contact op met Hennie Smidt via 06-36 17 03 78.\n\nDe Seniorenbeu
 rs wordt georganiseerd door Stichting Senioren Collectief Culemborg met on
 dersteuning van ElkWelzijn.\n\n&nbsp\;\n\nTip! Combineer je bezoek aan de 
 Seniorenbeurs met het Feel Alife Event\, van 11.00 tot 15.00 uur in de bi
 nnenstad.\n\n\n
ATTACH;FMTTYPE=image/jpeg:https://www.nvwc.nl/wp-content/uploads/2025/09/2
 023-0787.jpg
END:VEVENT
BEGIN:VTIMEZONE
TZID:Europe/Amsterdam
X-LIC-LOCATION:Europe/Amsterdam
BEGIN:DAYLIGHT
DTSTART:20250330T030000
TZOFFSETFROM:+0100
TZOFFSETTO:+0200
TZNAME:CEST
END:DAYLIGHT
END:VTIMEZONE
END:VCALENDAR