BEGIN:VCALENDAR
VERSION:2.0
PRODID:-//wp-events-plugin.com//7.2.3.1//EN
BEGIN:VEVENT
UID:148@nvwc.nl
DTSTART;TZID=Europe/Amsterdam:20250913T100000
DTEND;TZID=Europe/Amsterdam:20250913T160000
DTSTAMP:20250909T112103Z
URL:https://www.nvwc.nl/agenda/nvwc-op-monumentendag/
SUMMARY:NVWC op monumentendag
DESCRIPTION:Op monumentendag 13 september staat de bakfiets op de markt om 
 ons te presenteren. Leuk als je ook langs komt.
ATTACH;FMTTYPE=image/jpeg:https://www.nvwc.nl/wp-content/uploads/2025/02/2
 0250226-Bakfiets-met-FransW_AntonBelser-05-scaled.jpg
END:VEVENT
BEGIN:VTIMEZONE
TZID:Europe/Amsterdam
X-LIC-LOCATION:Europe/Amsterdam
BEGIN:DAYLIGHT
DTSTART:20250330T030000
TZOFFSETFROM:+0100
TZOFFSETTO:+0200
TZNAME:CEST
END:DAYLIGHT
END:VTIMEZONE
END:VCALENDAR