BEGIN:VCALENDAR
VERSION:2.0
PRODID:-//wp-events-plugin.com//7.2.3.1//EN
BEGIN:VEVENT
UID:147@nvwc.nl
DTSTART;TZID=Europe/Amsterdam:20250920T140000
DTEND;TZID=Europe/Amsterdam:20250920T160000
DTSTAMP:20250909T111711Z
URL:https://www.nvwc.nl/agenda/vogelexcursie-in-heesseltsche-uiterwaarden/
SUMMARY:Vogelexcursie in Heesseltsche uiterwaarden
DESCRIPTION:Op zaterdag 20 september organiseert IVN West-Betuwe een vogele
 xcursie in de Heesseltsche uiterwaarden. Om 14.00 uur ’s middags starten
  we vanaf de parkeerplaats bij Theehuis River Lounge. Iedereen is welkom.\
 n\nVroeger werd er klei gewonnen in de Heesseltsche uiterwaarden. Daarna i
 s het gebied voor de landbouw gebruikt. Enkele jaren geleden zijn deze uit
 erwaarden omgevormd tot een prachtig gebied met veel ruimte voor de rivier
  en de natuur. De leden van de Vogelwerkgroep van IVN West-Betuwe inventar
 iseren welke vogels hiervan profiteren. \n\nDe zomer loopt op zijn eind. 
 De eerste vogels zijn al aan de trek begonnen. Veel vogels zijn in het geb
 ied aan het verzamelen en opvetten voor de trek. Andere zijn nog bezig met
  de rui na hun broedseizoen. Ook zijn er de afgelopen tijd regelmatig vis-
  en zeearenden gespot. Wil jij je laten verrassen en je verwonderen over w
 elke vogels in de Heesseltsche uiterwaarden te zien zijn in deze tijd van 
 het jaar? Ga 20 september mee met deze IVN-vogelexcursie.\n\nPraktische in
 formatie\n\n 	De excursie start zaterdag 20 september om 14.00 uur en duur
 t ongeveer 2 uur.\n 	Het startpunt is de parkeerplaats bij de Theetuin Riv
 er Lounge.\n 	Deelname aan de excursie is gratis. Graag vooraf aanmelden v
 ia gwg@ivnwestbetuwe.nl .\n 	Goede wandelschoenen zijn aan te raden.\n 	
 De wandelpaden zijn ongelijkmatig en niet geschikt voor wandelwagens of ro
 lstoelen.\n 	Advies: lange broek met sokken erover en lange mouwen tegen t
 eken en muggen.\n 	Neem je verrekijker mee. Als je er geen hebt\, kun je e
 en verrekijker bij de gids lenen.\n 	Meer informatie over natuurgebied Hee
 sseltsche uiterwaarden vind je hier\n\nVoor meer informatie over deze nat
 uurexcursie kun je terecht bij Bert Vos\, IVN-natuurgids\, via gwg@ivnwes
 tbetuwe.nl.
ATTACH;FMTTYPE=image/jpeg:https://www.nvwc.nl/wp-content/uploads/2025/09/H
 aliaeetus-albicilla-21-Zeearend-Saxifraga-Mark-Zekhuis.jpg
END:VEVENT
BEGIN:VTIMEZONE
TZID:Europe/Amsterdam
X-LIC-LOCATION:Europe/Amsterdam
BEGIN:DAYLIGHT
DTSTART:20250330T030000
TZOFFSETFROM:+0100
TZOFFSETTO:+0200
TZNAME:CEST
END:DAYLIGHT
END:VTIMEZONE
END:VCALENDAR