BEGIN:VCALENDAR
VERSION:2.0
PRODID:-//wp-events-plugin.com//7.2.3.1//EN
BEGIN:VEVENT
UID:143@nvwc.nl
DTSTART;TZID=Europe/Amsterdam:20251004T090000
DTEND;TZID=Europe/Amsterdam:20251004T110000
DTSTAMP:20250901T191307Z
URL:https://www.nvwc.nl/agenda/vogels-in-de-buurt-de-najaarstrek-is-begonn
 en/
SUMMARY:Vogels in de buurt: de najaarstrek is begonnen
DESCRIPTION:De zomerstop ligt achter ons en dat betekent dat de najaarstrek
  is begonnen. Deze ochtend blijft Gerrit Jan bij de Lek met de kans op een
  voorbijtrekkende visarend of andere roofvogels.In de meidoorns langs de r
 ivier gaan we zoeken naar paapjes\, roodborsttapuiten  en andere leuke na
 jaarszangers. Om 9:00 uur op de parkeerplaats voor De Steenuil\, Steenoven
 slaan 20\, Culemborg. De excursie duurt ongeveer twee uur. Deze maandelijk
 se fietsexcursies zijn geschikt voor zowel beginnende als gevorderde vogel
 aars. Aanmelden vooraf is niet nodig en er zijn geen kosten aan verbonden.
  Heb je een verrekijker? Neem die dan mee.\n\nVoor meer info een mailtje n
 aar gjklop@gmail.com.\n\nEerstvolgende excursie: 4 oktober.
ATTACH;FMTTYPE=image/jpeg:https://www.nvwc.nl/wp-content/uploads/2025/09/S
 axicola-rubicola-1-Roodborsttapuit-male-Saxifraga-Jan-van-der-Straaten.jpg
END:VEVENT
BEGIN:VTIMEZONE
TZID:Europe/Amsterdam
X-LIC-LOCATION:Europe/Amsterdam
BEGIN:DAYLIGHT
DTSTART:20250330T030000
TZOFFSETFROM:+0100
TZOFFSETTO:+0200
TZNAME:CEST
END:DAYLIGHT
END:VTIMEZONE
END:VCALENDAR