BEGIN:VCALENDAR
VERSION:2.0
PRODID:-//wp-events-plugin.com//7.2.3.1//EN
BEGIN:VEVENT
UID:111@nvwc.nl
DTSTART;TZID=Europe/Amsterdam:20241207T090000
DTEND;TZID=Europe/Amsterdam:20241207T110000
DTSTAMP:20241204T145413Z
URL:https://www.nvwc.nl/agenda/vogels-in-de-buurt-eenden-maar-misschien-oo
 k-een-baardmannetje/
SUMMARY:Vogels in de buurt: Eenden\, maar misschien ook een baardmannetje
DESCRIPTION:Deze zaterdagochtend gaan we proberen zo veel mogelijk (overwin
 terende) eendensoorten te zien. Smienten\, wintertalingen en grote hoevee
 lheden slobeenden gaan wel lukken. Met wat geluk vinden we ook pijlstaart 
 en grote zaagbek. Natuurlijk negeren we de overige vogels niet en het zou 
 zomaar kunnen dat er baardmannetjes in de rietstroken bij Everdingen gaan 
 roepen...\n\n&nbsp\;\n\nWe stappen op 7 december om 9:00 uur op de fiets v
 anaf het grote plein voor\nDe Steenuil\, Steenovenslaan 20\, Culemborg. De
  excursie duurt ongeveer twee uur.\nDeze maandelijkse fietsexcursies zijn 
 geschikt voor zowel beginnende als gevorderde vogelaars. Aanmelden vooraf 
 is niet nodig en er zijn geen kosten aan verbonden. Heb je een verrekijker
 ? Neem die dan mee.\nVoor meer info een mailtje naar gjklop@gmail.com.\n\n
 &nbsp\;\n\nn januari is er geen excursie Vogels in de buurt. Volgende excu
 rsie: 1 februari.\n\n&nbsp\;\n\nFoto baardmannetje: Gerrit Jan Klop
ATTACH;FMTTYPE=image/jpeg:https://www.nvwc.nl/wp-content/uploads/2024/12/2
 01911-Baardmannetje_GJK.jpg
END:VEVENT
BEGIN:VTIMEZONE
TZID:Europe/Amsterdam
X-LIC-LOCATION:Europe/Amsterdam
BEGIN:STANDARD
DTSTART:20241027T020000
TZOFFSETFROM:+0200
TZOFFSETTO:+0100
TZNAME:CET
END:STANDARD
END:VTIMEZONE
END:VCALENDAR