BEGIN:VCALENDAR
VERSION:2.0
PRODID:-//wp-events-plugin.com//7.2.3.1//EN
BEGIN:VEVENT
UID:161@nvwc.nl
DTSTART;TZID=Europe/Amsterdam:20251206T090000
DTEND;TZID=Europe/Amsterdam:20251206T110000
DTSTAMP:20251126T214335Z
URL:https://www.nvwc.nl/agenda/vogels-in-de-buurt-excursie-december/
SUMMARY:Vogels in de buurt\, excursie december
DESCRIPTION:Deze keer gaan we op zoek naar eenden in de uiterwaarden en wel
  specifiek naar de "winter-eenden": pijlstaart\, brilduiker\, tafeleend\, 
 grote zaagbek\, smient en wintertaling. Met wat geluk is zelfs een nonnetj
 e mogelijk. Natuurlijk vergeten we de andere soortgroepen ook niet. De fot
 o hierbij is een nijlgans die midden in de winter pullen kan hebben. Daar 
 vertelt Gerrit Jan graag meer over tijdens de excursie.\n\nDeze maandelijk
 se excursie is ook geschikt voor beginnende vogelaars. Aanmelden vooraf is
  niet nodig en er zijn geen kosten aan verbonden. Heeft u een verrekijker?
  Neem die dan mee.\nWe stappen op 6 december om 9:00 uur op de fiets vanaf
  het grote plein voor De Steenuil\, Steenovenslaan 20\, Culemborg. De excu
 rsie duurt ongeveer twee uur.\nVoor meer info een mailtje naar gjklop@gma
 il.com.
ATTACH;FMTTYPE=image/jpeg:https://www.nvwc.nl/wp-content/uploads/2025/11/2
 0230212_120550_Nijlgans_-c-Gerrit-Jan-Klop-scaled.jpg
LOCATION:Parkeerterrein voor De Steenuil\, Steenovenslaan 20\, Culemborg\, 
 Nederland
X-APPLE-STRUCTURED-LOCATION;VALUE=URI;X-ADDRESS=Steenovenslaan 20\, Culembo
 rg\, Nederland;X-APPLE-RADIUS=100;X-TITLE=Parkeerterrein voor De Steenuil:
 geo:0,0
END:VEVENT
BEGIN:VTIMEZONE
TZID:Europe/Amsterdam
X-LIC-LOCATION:Europe/Amsterdam
BEGIN:STANDARD
DTSTART:20251026T020000
TZOFFSETFROM:+0200
TZOFFSETTO:+0100
TZNAME:CET
END:STANDARD
END:VTIMEZONE
END:VCALENDAR