BEGIN:VCALENDAR
VERSION:2.0
PRODID:-//wp-events-plugin.com//7.2.3.1//EN
BEGIN:VEVENT
UID:170@nvwc.nl
DTSTART;TZID=Europe/Amsterdam:20260207T090000
DTEND;TZID=Europe/Amsterdam:20260207T110000
DTSTAMP:20260125T164709Z
URL:https://www.nvwc.nl/agenda/vogels-in-de-buurt-excursie/
SUMMARY:Vogels in de buurt\, excursie
DESCRIPTION:Het is hartje winter en het perfecte moment om eens te gaan kij
 ken welke roofvogels er rond Culemborg overwinteren. We gaan op de fiets z
 uidelijk van Culemborg op zoek naar buizerds\, torenvalken en wellicht een
  blauwe kiekendief (foto).\n\nDeze maandelijkse excursie onder leiding van
  Gerrit Jan Klop is voor zowel leden als niet-leden en is ook geschikt voo
 r beginnende vogelaars. Aanmelden vooraf is niet nodig en er zijn geen kos
 ten aan verbonden. Heeft u een verrekijker? Neem die dan mee.\nWe stappen 
 op 7 februari om 9:00 uur op de fiets vanaf het grote plein voor De Steenu
 il\, Steenovenslaan 20\, Culemborg. De excursie duurt ongeveer twee uur.\n
 Voor meer info een mailtje naar gjklop@gmail.com
ATTACH;FMTTYPE=image/jpeg:https://www.nvwc.nl/wp-content/uploads/2026/01/2
 T8T1959_Blauwe-Kiekendief_-cGJK.jpg
LOCATION:Parkeerterrein voor De Steenuil\, Steenovenslaan 20\, Culemborg\, 
 Nederland
X-APPLE-STRUCTURED-LOCATION;VALUE=URI;X-ADDRESS=Steenovenslaan 20\, Culembo
 rg\, Nederland;X-APPLE-RADIUS=100;X-TITLE=Parkeerterrein voor De Steenuil:
 geo:0,0
END:VEVENT
BEGIN:VTIMEZONE
TZID:Europe/Amsterdam
X-LIC-LOCATION:Europe/Amsterdam
BEGIN:STANDARD
DTSTART:20251026T020000
TZOFFSETFROM:+0200
TZOFFSETTO:+0100
TZNAME:CET
END:STANDARD
END:VTIMEZONE
END:VCALENDAR