BEGIN:VCALENDAR
VERSION:2.0
PRODID:-//wp-events-plugin.com//7.2.3.1//EN
BEGIN:VEVENT
UID:139@nvwc.nl
DTSTART;TZID=Europe/Amsterdam:20250608T090000
DTEND;TZID=Europe/Amsterdam:20250608T110000
DTSTAMP:20250601T071124Z
URL:https://www.nvwc.nl/agenda/vogels-in-de-buurt-pinksterexcursie-zondag-
 8-juni/
SUMMARY:Vogels in de buurt: Pinksterexcursie zondag 8 juni
DESCRIPTION:De vogelexcursie van 7 juni wordt verplaatst naar zondag 8 juni
 . Het wordt een echte pinksterexcursie. Waar we heen gaan is nog niet beke
 nd.\n\n&nbsp\;\n\nWe stappen op 8 juni om 9:00 uur op de fiets vanaf het g
 rote plein voor De Steenuil\, Steenovenslaan 20\, Culemborg. De excursie 
 duurt ongeveer twee uur. Deze maandelijkse fietsexcursies zijn geschikt vo
 or zowel beginnende als gevorderde vogelaars. Aanmelden vooraf is niet nod
 ig en er zijn geen kosten aan verbonden. Heb je een verrekijker? Neem die 
 dan mee.\n\nVoor meer info een mailtje naar gjklop@gmail.com.\n\nEerstvolg
 ende excursie: 5 juli.\n\n&nbsp\;\n\n&nbsp\;\n\nFoto sperwer: Theo Franken
ATTACH;FMTTYPE=image/jpeg:https://www.nvwc.nl/wp-content/uploads/2025/06/2
 0240131-Sperwer-tuin-Tiel_TF-02.jpg
LOCATION:De Steenuil\, Steenovenslaan 20\, Culemborg\, Nederland
X-APPLE-STRUCTURED-LOCATION;VALUE=URI;X-ADDRESS=Steenovenslaan 20\, Culembo
 rg\, Nederland;X-APPLE-RADIUS=100;X-TITLE=De Steenuil:geo:0,0
END:VEVENT
BEGIN:VTIMEZONE
TZID:Europe/Amsterdam
X-LIC-LOCATION:Europe/Amsterdam
BEGIN:DAYLIGHT
DTSTART:20250330T030000
TZOFFSETFROM:+0100
TZOFFSETTO:+0200
TZNAME:CEST
END:DAYLIGHT
END:VTIMEZONE
END:VCALENDAR