BEGIN:VCALENDAR
VERSION:2.0
PRODID:-//wp-events-plugin.com//7.2.3.1//EN
BEGIN:VEVENT
UID:156@nvwc.nl
DTSTART;TZID=Europe/Amsterdam:20251101T090000
DTEND;TZID=Europe/Amsterdam:20251101T110000
DTSTAMP:20251028T162920Z
URL:https://www.nvwc.nl/agenda/vogels-in-de-buurt-vogeltrek/
SUMMARY:Vogels in de buurt: Vogeltrek!
DESCRIPTION:\n\nDe vogeltrek is net over zijn hoogtepunt heen\, maar nog al
 tijd is het najaar in de uiterwaarden van de Lek. Deze ochtend gaan we op 
 zoek naar koperwieken en kramsvogels. Misschien laat de eerste grote zaagb
 ek zich al zien in de rivier.\nDeze maandelijkse excursie is ook geschikt 
 voor beginnende vogelaars. Aanmelden vooraf is niet nodig en er zijn geen 
 kosten aan verbonden. Heeft u een verrekijker? Neem die dan mee.\nWe stapp
 en op 1 november om 9:00 uur op de fiets vanaf het grote plein voor De Ste
 enuil\, Steenovenslaan 20\, Culemborg. De excursie duurt ongeveer twee uur
 .\nVoor meer info een mailtje naar gjklop@gmail.com.\n\n
ATTACH;FMTTYPE=image/jpeg:https://www.nvwc.nl/wp-content/uploads/2025/10/M
 ergus-merganser-18-Grote-zaagbek-Saxifraga-Henk-Baptist.jpg
END:VEVENT
BEGIN:VTIMEZONE
TZID:Europe/Amsterdam
X-LIC-LOCATION:Europe/Amsterdam
BEGIN:STANDARD
DTSTART:20251026T020000
TZOFFSETFROM:+0200
TZOFFSETTO:+0100
TZNAME:CET
END:STANDARD
END:VTIMEZONE
END:VCALENDAR