BEGIN:VCALENDAR
VERSION:2.0
PRODID:-//wp-events-plugin.com//7.2.3.1//EN
BEGIN:VEVENT
UID:142@nvwc.nl
DTSTART;TZID=Europe/Amsterdam:20250903T200000
DTEND;TZID=Europe/Amsterdam:20250903T220000
DTSTAMP:20250901T190510Z
URL:https://www.nvwc.nl/agenda/workshop-sprinkhanen/
SUMMARY:Workshop sprinkhanen
DESCRIPTION:\n\n\nWorkshop sprinkhanen 3 september\nOp woensdagavond 3 sept
 ember wordt door Ewoud een sprinkhanenworkshop verzorgd in het clubgebouw 
 De Steenuil aan de Steenovenslaan. In 1\,5-2 uur wordt de soortgroep sprin
 khanen geïntroduceerd en wordt ingegaan op de leefwijze en determinatie v
 an deze guitige springers die zich vooral in de (na)zomer laten zien en ho
 ren. De workshop op woensdag 3 september start om 20:00 uur.\n\nOp 6 septe
 mber wordt de workshop opgevolgd door een excursie in het Tichelterrein bi
 j Buren\, waar we een nadere blik op de dieren gaan werpen. We verzamelen 
 hiervoor om 14.00 op de parkeerplaats aan de Hennisdijk. Ook de excursie z
 al naar verwachting 1\,5-2 uurtjes duren.\n\nAanmelden kan middels een mai
 ltje aan Ewoud: agrius_convolvuli@hotmail.com. Heb je je al aangemeld via 
 de website\, dan is dat uieraard ook prima en hoef je je niet nog eens aan
  te melden via de mail.\n\n\n
ATTACH;FMTTYPE=image/jpeg:https://www.nvwc.nl/wp-content/uploads/2025/09/C
 horthippus-brunneus-7-Bruine-sprinkhaan-Saxifraga-Tom-Heijnen.jpg
END:VEVENT
BEGIN:VTIMEZONE
TZID:Europe/Amsterdam
X-LIC-LOCATION:Europe/Amsterdam
BEGIN:DAYLIGHT
DTSTART:20250330T030000
TZOFFSETFROM:+0100
TZOFFSETTO:+0200
TZNAME:CEST
END:DAYLIGHT
END:VTIMEZONE
END:VCALENDAR